Workbook
Name _Toc222560245: Language!$B$47
Name OLE_LINK1: Language!$C$244
Name OLE_LINK3: Language!#REF!

Sheet Summary
B1: Assessment tool for core capacity of PoE
A3: ='PoE ID'!A2 -> PoE name | B3: Van Rooyensgate | D3: ='PoE ID'!A26 -> SHIP SANITATION CERTFICATES | E3: ='PoE ID'!B26 -> 0
C4: ='PoE ID'!B36 -> 0 | D4: ='PoE ID'!A27 -> SSCC | E4: ='PoE ID'!B27 -> 0
A5: ='PoE ID'!A3 -> Contact details of competent authority/agency | B5: National Department of Health | D5: ='PoE ID'!A28 -> SSCEC | E5: ='PoE ID'!B28 -> 0
A6: ='PoE ID'!A4 -> Address | B6: Van Rooyensgate | D6: ='PoE ID'!A29 -> Extensions | E6: ='PoE ID'!B29 -> 0
A7: ='PoE ID'!A5 -> Telephone | D7: ='PoE ID'!A30 -> Points of entry - core capacity | E7: ='PoE ID'!B30 -> 0
A8: ='PoE ID'!A6 -> Fax | D8: ='PoE ID'!A31 -> Designated | E8: ='PoE ID'!B31 -> 0
A9: ='PoE ID'!A7 -> E-mail | D9: ='PoE ID'!A32 -> Date | E9: ='PoE ID'!B32 -> 0
A10: ='PoE ID'!A8 -> Web address | B10: www.health.gov.za | D10: ='PoE ID'!A33 -> No Info | E10: ='PoE ID'!B33 -> 0
D11: ='PoE ID'!A34 -> Assessed | E11: ='PoE ID'!B34 -> 0
A12: ='PoE ID'!A10 -> Contact details of person | B12: NJ. Mokake | D12: ='PoE ID'!A35 -> Date | E12: ='PoE ID'!B35 -> 0
A13: ='PoE ID'!A11 -> PoE name | B13: Van Rooyensgate | D13: ='PoE ID'!A36 -> No info | E13: ='PoE ID'!B36 -> 0
A14: ='PoE ID'!A12 -> Address | B14: 12 km from Wepener | D14: ='PoE ID'!A37 -> WHO certificate | E14: ='PoE ID'!B37 -> 0
A15: ='PoE ID'!A13 -> Telephone | B15: 051-5831619 (Local BCOCC) | D15: ='PoE ID'!A38 -> Date | E15: ='PoE ID'!B38 -> 0
A16: ='PoE ID'!A14 -> Fax | B16: 051-5831619 | D16: ='PoE ID'!A39 -> No Info | E16: ='PoE ID'!B39 -> 0
A17: ='PoE ID'!A15 -> E-mail | D17: ='PoE ID'!A40 -> Coordination and communication | E17: ='PoE ID'!B40 -> 0
A18: ='PoE ID'!A16 -> Web address | D18: ='PoE ID'!A41 -> Core capacity B.1.at all times | E18: ='PoE ID'!B41 -> 0
D19: ='PoE ID'!A42 -> B.1.(a) | E19: ='PoE ID'!B42 -> 0
A20: ='PoE ID'!A18 -> National requirements and legislation related to public health measures at PoE and other information (Links): | B20: ='PoE ID'!B18 -> 0 | D20: ='PoE ID'!A43 -> B.1.(b) | E20: ='PoE ID'!B43 -> 0
A21: ='PoE ID'!A19 -> Useful links | B21: ='PoE ID'!B19 -> 0 | D21: ='PoE ID'!A44 -> B.1.(c) | E21: ='PoE ID'!B44 -> 0
D22: ='PoE ID'!A45 -> B.1.(d) | E22: ='PoE ID'!B45 -> 0
A23: ='PoE ID'!A21 -> Identification | B23: ='PoE ID'!B21 -> 0 | D23: ='PoE ID'!A46 -> B.1.(e) | E23: ='PoE ID'!B46 -> 0
A24: ='PoE ID'!A22 -> Name | B24: ='PoE ID'!B22 -> 0 | D24: ='PoE ID'!A47 -> B.1.(f) | E24: ='PoE ID'!B47 -> 0
A25: ='PoE ID'!A23 -> Type:Airport/Port/Ground Crossings | B25: GROUND CROSSING | D25: ='PoE ID'!A48 -> Core capacity B.2.Public health emergency | E25: ='PoE ID'!B48 -> 0
A26: ='PoE ID'!A24 -> code UNlcode or ICAO or IATA | B26: ='PoE ID'!B24 -> 0 | D26: ='PoE ID'!A49 -> B.2.(a) | E26: ='PoE ID'!B49 -> 0
D27: ='PoE ID'!A50 -> B.2.(b) | E27: ='PoE ID'!B50 -> 0
D28: ='PoE ID'!A51 -> B.2.(c) | E28: ='PoE ID'!B51 -> 0
D29: ='PoE ID'!A52 -> B.2.(d) | E29: ='PoE ID'!B52 -> 0
D30: ='PoE ID'!A53 -> B.2.(e) | E30: ='PoE ID'!B53 -> 0
D31: ='PoE ID'!A54 -> B.2.(f) | E31: ='PoE ID'!B54 -> 0
D32: ='PoE ID'!A55 -> B.2.(g) | E32: ='PoE ID'!B55 -> 0
A33: =Language!B193 -> Final Score | B33: ='All groups of core capacities'!B5 -> 0.77425595
A34: ='All groups of core capacities'!A2 -> Coordination and communication | B34: 1
A35: ='All groups of core capacities'!A3 -> Core capacity at all times | B35: ='All groups of core capacities'!B3 -> 0.50729167
A36: ='All groups of core capacities'!A4 -> Core capacity for responding to PHEICs | B36: ='All groups of core capacities'!B4 -> 0.81547619
A51: =Language!B229 -> Comments and suggestions
B52: =Language!B215 -> Strengths | C52: =Language!B216 -> Weaknesses | D52: =Language!B225 -> Workplan on future improvement
A53: =Language!B217 -> Coordination and communication | B53: BCOCC structure | C53: some officials having less information about port health services. | D53: all involved stakeholders be given relevent and necessasy trainings.
A54: ='All groups of core capacities'!A3 -> Core capacity at all times | B54: =Language!B219 -> Care of affected travelers | C54: lack of isolation facilities within the border post | D54: provide with isolation facilities and other equipment(thermo detector)
B55: =Language!B220 -> Vectors | C55: source of infestation(nearby taxi rank) | D55: removal of the taxi rank from the mouth piece of the border post.
B56: =Language!B221 -> Water | C56: chemical testing | D56: chemical testing
B57: =Language!B222 -> Food | C57: street vendors | D57: regular food sampling
B58: =Language!B223 -> Solid and liquid waste | C58: no chemical analysis | D58: regular chemical analysis
B59: =Language!B224 -> Lab support | C59: all tests results be provided on time. | D59: all neccesary analysis provided on time
A60: ='All groups of core capacities'!A4 -> Core capacity for responding to PHEICs | B60: public health emergency international contigency | C60: necessary training be provided to all involved officials. | D60: all neccesary equipment and facilities provided on time
A61: =Language!B230 -> Note | B61: 24/7 port health services not in place. Only 06:00-14:00 and 14:00-22:00 shift in place, Monday to Friday, and overtimes when necessary.
A63: =Language!B195 -> Insert photographs or videos below

Sheet All groups of core capacities
A1: =Language!B197 -> All groups of core capacities
A2: =Language!B198 -> Coordination and communication | B2: ='coordination and communication'!E1 -> 1
A3: =Language!B199 -> Core capacity at all times | B3: ='Core capacity at all times'!G1 -> 0.50729167
A4: =Language!B200 -> Core capacity for responding to PHEICs | B4: ='Core capacity for PHEIC'!F1 -> 0.81547619
A5: =Language!B193 -> Final Score | B5: =AVERAGE(B2:B4) -> 0.77425595

Sheet PoE ID
A1: =Language!B4 -> PoE identification
A2: =Language!B5 -> PoE name
A3: =Language!B6 -> Contact details of competent authority/agency
A4: =Language!B7 -> Address
A5: =Language!B8 -> Telephone
A6: =Language!B9 -> Fax
A7: =Language!B10 -> E-mail
A8: =Language!B17 -> Web address
A10: =Language!B12 -> Contact details of person
A11: =Language!B5 -> PoE name
A12: =Language!B7 -> Address
A13: =Language!B8 -> Telephone
A14: =Language!B9 -> Fax
A15: =Language!B10 -> E-mail
A16: =Language!B17 -> Web address
A18: =Language!B18 -> National requirements and legislation related to public health measures at PoE and other information (Links):
A19: =Language!B19 -> Useful links
A21: =Language!B20 -> Identification
A22: =Language!B21 -> Name
A23: =Language!B22 -> Type:Airport/Port/Ground Crossings
A24: =Language!B23 -> code UNlcode or ICAO or IATA
A26: =Language!B24 -> SHIP SANITATION CERTFICATES
A27: =Language!B25 -> SSCC
A28: =Language!B26 -> SSCEC
A29: =Language!B27 -> Extensions
A30: =Language!B28 -> Points of entry - core capacity
A31: =Language!B29 -> Designated
A32: =Language!B30 -> Date
A33: =Language!B31 -> No Info
A34: =Language!B32 -> Assessed
A35: =Language!B33 -> Date
A36: =Language!B34 -> No info
A37: =Language!B226 -> WHO certificate
A38: =Language!B30 -> Date
A39: =Language!B31 -> No Info
A40: =Language!B198 -> Coordination and communication
A41: =Language!B35 -> Core capacity B.1.at all times
A42: =Language!B36 -> B.1.(a)
A43: =Language!B37 -> B.1.(b)
A44: =Language!B38 -> B.1.(c)
A45: =Language!B39 -> B.1.(d)
A46: =Language!B40 -> B.1.(e)
A47: =Language!B237 -> B.1.(f)
A48: =Language!B41 -> Core capacity B.2.Public health emergency
A49: =Language!B42 -> B.2.(a)
A50: =Language!B43 -> B.2.(b)
A51: =Language!B44 -> B.2.(c)
A52: =Language!B45 -> B.2.(d)
A53: =Language!B238 -> B.2.(e)
A54: =Language!B239 -> B.2.(f)
A55: =Language!B240 -> B.2.(g)

Sheet coordination and communication
A1: =Language!B47 -> A) Core capacity requirements for coordination, communication of event information and adoption of measures (in regard to activities concerning designated airports, ports and ground crossings, according to Annex 1A) | E1: =IF(COUNT(D2:D20)=0,"'",AVERAGE(D2:D20)) -> 1
A2: =Language!B48 -> 1.International communication link with competent authorities at other points of entry | D2: =C3 -> 1
A3: =Language!B49 -> Competent authority at each point of entry has current contact details of officers in charge of international communication with other points of entry abroad and means of communication and procedures are available to inform relevant public health measures taken pursuant to the International Health Regulations, such as: - communication with competent authorities at other points of entry, internationally, to provide relevant information regarding evidence found and control measures still needed on arrival of affected conveyance. | B3: Y | C3: =IF(B3="Y",1,IF(B3="N",0,0.5)) -> 1
A4: =Language!B50 -> 2. National communication link between competent authorities at points of entry and health authorities at local, intermediate and national levels | D4: =IF(COUNT(C5:C6)=0,"'",AVERAGE(C5:C6)) -> 1
A5: =Language!B51 -> Local, intermediate and national levels (including National IHR Focal Point) have current contact details of competent authorities at points of entry and current, regularly updated, documented and tested procedures, including any Memorandum of Understanding - MoU and protocols are in place for routine and urgent communication and collaboration during a public health emergency of international concern with: 1) the competent authority at other points of entry and health authorities at local, intermediate and national levels; 2) other relevant government ministries, agencies, government authorities and other partners involved with points of entry activities | B5: Y | C5: =IF(B5="y",1,IF(B5="N",0,0.5)) -> 1
A6: =Language!B52 -> Competent authority at each point of entry has current contact details of officers within local, intermediate and national levels, including contact details of National IHR Focal Point and means of communication and procedures are available to inform relevant public health measures taken pursuant to the International Health Regulations. Such as: - To communicate with NFP in order to inform WHO within 24 hours of receipt of evidence, as manifested by exported or imported: 1) human cases; 2) vectors which may carry infection or contamination, or 3) goods that are contaminated, that may cause international disease spread - report all available essential information on event occurring at point of entry by competent authority to health authority at local, intermediate or national level for public health assessment, care and response. - for communication with competent authorities at other points of entry, nationally, to provide relevant information regarding evidence found and control measures needed on arrival of affected conveyance. | B6: Y | C6: =IF(B6="y",1,IF(B6="N",0,0.5)) -> 1
A7: =Language!B53 -> 3.Direct operational link with other senior health officials | D7: =C8 -> 1
A8: =Language!B54 -> Current, regularly updated, documented and tested procedures, including any MoU and protocols, for direct operational link between local point of entry competent authority officer and other senior health officials, are in place for rapid decision approval, risk assessment and implementation of containment and controls measures | B8: Y | C8: =IF(B8="y",1,IF(B8="N",0,0.5)) -> 1
A9: =Language!B55 -> 4. Communication link with conveyance operators | D9: =C10 -> 1
A10: =Language!B56 -> Current contact details of conveyance operators (including its agents or legal representatives at shore), means of communication and procedures are available for advance notice of application of control measures, for issuance of Ship Sanitation Certificates and for receipt of other health documents and conveyance operators provided with current contact details of competent authority. | B10: Y | C10: =IF(B10="y",1,IF(B10="N",0,0.5)) -> 1
A11: =Language!B57 -> 5. Communication link with travellers for health related information | D11: =C12 -> 1
A12: =Language!B58 -> Current contact details of competent authority at point of entry and means of communication and procedures are available for notice of application of control measures, for receipt of health documents and to provide health related information for travellers. | B12: Y | C12: =IF(B12="y",1,IF(B12="N",0,0.5)) -> 1
A13: =Language!B59 -> 6. Communication link with service providers | D13: =C14 -> 1
A14: =Language!B60 -> Current contact details of service providers and means of communication and procedures are available for advance notice of application of control measures. Service providers have current contact details of competent authority: | B14: Y | C14: =IF(B14="y",1,IF(B14="N",0,0.5)) -> 1
A15: =Language!B61 -> 7. Assessment of all reports of urgent events within 24 hrs | D15: =C16 -> 1
A16: =Language!B62 -> Current, regularly updated, documented and tested procedures (including any MoU and protocols) for communication and assessment within 24hs all reports of urgent events related to ports, airports and ground crossings, including direct operational links exists among hospitals, clinics, airports, ports, ground crossings authorities, laboratories and other key operational areas. | B16: Y | C16: =IF(B16="y",1,IF(B16="N",0,0.5)) -> 1
A17: =Language!B63 -> 8. Communication mechanism for the dissemination of information and recommendations received from WHO | D17: =C18 -> 1
A18: =Language!B64 -> Current, regularly updated, documented and tested communication mechanism for handling WHO reports, regarding national events or events in other countries involving point of entry activities and related public health measures, for use by competent authorities at points of entry. | B18: Y | C18: =IF(B18="y",1,IF(B18="N",0,0.5)) -> 1
A19: =Language!B65 -> 9. Procedures and legal and administrative provisions to conduct inspections and receive reports of cases of illness and/or other evidence of public health risks on board arriving conveyances | D19: =C20 -> 1
A20: =Language!B66 -> National legislation, administrative acts, protocols and/or procedures is in place, updated and disseminated widely, empowering competent authority to conduct inspections to identify public health risks together with required control measures to be applied and providing requirements to report public health related events on board. Guidance documents explaining the requirements and procedures to immediately relay reports to the competent authority to ensure that appropriate assessment, care and other public health measures are developed and disseminated to cruise lines, airlines, ground transportation and their relevant industry associations and posted on appropriate websites. A standard operating procedure for competent authorities is in place to receive reports from arriving conveyances of all cases of illness indicative of an infectious disease or evidence of a public health risk on board All the above activities should be provided on a 24-hour basis, seven days a week (24/7) or according to working hours at the points of entry, as appropriate. | B20: Y | C20: =IF(B20="y",1,IF(B20="N",0,0.5)) -> 1

Sheet Core capacity at all times
A1: =Language!B67 -> B) Core capacity requirements for designated airports, ports and ground crossings. I At all Times (Routine) | G1: =IF(COUNT(F2:F81)=0,"",AVERAGE(F2:F81)) -> 0.50729167 | H1: =Language!B214 -> Observations
A2: =Language!B68 -> (a) Provide access to (i) appropriate medical service including diagnostic facilities located so as to allow the prompt assessment and care of ill travellers, and (ii) adequate staff, equipment and premises | E2: =IF(COUNT(D3:D10)=0,"'",AVERAGE(D3:D10)) -> ' | F2: =IF(COUNT(E3:E10)=0,"",AVERAGE(E3:E10)) -> 0.75
A3: =Language!B69 -> 1. Assessment and care of ill travellers | E3: =IF(COUNT(C4:C6)=0,"",AVERAGE(C4:C6)) -> 0.83333333
A4: =Language!B70 -> 1.1. Access to medical and diagnostic facilities Administrative arrangements and MoUs are in place to grant access to medical and diagnostic facilities for assessment and care of ill or suspect travellers, in consultation with local and/or nearby health services. If on-site, specialized warehouse for medicine and medical instruments and records for their use and replacement. | B4: Y | C4: =IF(B4="Y",1,IF(B4="N",0,0.5)) -> 1
A5: =Language!B71 -> 1.2. Assessment of requirements concerning vaccination or prophylaxis Capability to do on-site assessment of proof of vaccination and prophylaxis recommended by WHO, such as for yellow fever, as applicable, and accordingly to the epidemiological situation, risk analysis and national requirements | B5: Y | C5: =IF(B5="Y",1,IF(B5="N",0,0.5)) -> 1
A6: =Language!B72 -> 1.3. Key information regarding medical and diagnostic facilities List of all facility names and key contact information (address, phone number, distance from Point of entry and map of routes) created , maintained and updated, disseminated, regularly tested for accuracy and accessible to all relevant personnel, to which ill or suspect travellers from the Point of entry are to be transferred. | B6: Partial | C6: =IF(B6="Y",1,IF(B6="N",0,0.5)) -> 0.5
A7: =Language!B73 -> 2. Adequate staff, equipment and premises | E7: =IF(COUNT(C8:C10)=0,"",AVERAGE(C8:C10)) -> 0.66666667
A8: =Language!B74 -> 2.1. Staff Sufficient personnel Access to appropriate number of trained personnel assigned for these duties, in relation to volume and frequency of travellers and complexity of the point of entry (regarding terminal facilities, destinations and multimodal practice in place among other factors). Arrangements for translation and interpreters where needed(?) Competent/qualified personnel for prompt assessment, care and reporting of ill travellers Personnel have undergone a training program to recognize disease symptoms and are familiar with procedures regarding prompt assessment, care and reporting of ill travellers. | B8: Partial | C8: =IF(B8="Y",1,IF(B8="N",0,0.5)) -> 0.5
A9: =Language!B75 -> 2.2. Adequate space to conduct private interviews with ill travellers Hygienic and environmentally safe space(s) set aside to conduct private interviews that are of adequate size in relation to volume, type of conveyance and frequency of travellers and complexity of the point of entry (regarding terminal facilities, destinations and multimodal practices). Desirable to have independent exit passage through which suspect travellers can be transported to medical care facilities, if needed, and in order to avoid infecting other persons. | B9: Partial | C9: =IF(B9="Y",1,IF(B9="N",0,0.5)) -> 0.5
A10: =Language!B76 -> 2.3. Personal protective equipment (PPE) for interviewing ill travellers Access to necessary equipment (e.g. PPE) for initial interview and triage. Personnel use personal protective equipment for initial interview and triage. | B10: Y | C10: =IF(B10="Y",1,IF(B10="N",0,0.5)) -> 1
A11: =Language!B77 -> (b) Provide access to equipment and personnel for the transport of ill travellers to an appropriate medical facility | E11: =IF(COUNT(D12:D17)=0,"'",AVERAGE(D12:D17)) -> ' | F11: =IF(COUNT(E12:E17)=0,"",AVERAGE(E12:E17)) -> 1
A12: =Language!B78 -> 1. Equipment to transport ill travellers | E12: =IF(COUNT(C13:C14)=0,"",AVERAGE(C13:C14)) -> 1
A13: =Language!B79 -> 1.1. Equipment for transport of ill travellers to appropriate medical facility Arrangements are in place for transporting ill travellers to appropriate medical facility by safe, hygienic means of transport. | B13: Y | C13: =IF(B13="Y",1,IF(B13="N",0,0.5)) -> 1
A14: =Language!B80 -> 1.2. Access to personal protective equipment (PPE) for transport staff Transport staff have access to and uses adequate personal protective equipment, when transporting ill travellers. | B14: Y | C14: =IF(B14="Y",1,IF(B14="N",0,0.5)) -> 1
A15: =Language!B81 -> 2. Personnel to transport ill travellers. | E15: =IF(COUNT(C16:C17)=0,"",AVERAGE(C16:C17)) -> 1
A16: =Language!B82 -> 2.1. Number of trained personnel Appropriate number of trained personnel available to adequently transport ill travellers, according to technical requirements | B16: Y | C16: =IF(B16="Y",1,IF(B16="N",0,0.5)) -> 1
A17: =Language!B83 -> 2.2. Training of Standard operational procedures for transport of ill travellers Personnel trained and knowledgeable in infection control techniques for the safe removal of ill travellers, in application of personal protective equipment and in use of key information regarding contacting and accessing medical facilities in a safe and timely manner | B17: Y | C17: =IF(B17="Y",1,IF(B17="N",0,0.5)) -> 1
A18: =Language!B84 -> c ) Provide trained personnel for the inspection of conveyances | E18: =IF(COUNT(D19:D36)=0,"'",AVERAGE(D19:D36)) -> ' | F18: =IF(COUNT(E19:E36)=0,"",AVERAGE(E19:E36)) -> 0.66666667
A19: =Language!B85 -> 1. Number of trained personnel | E19: =C20 -> 0.5 | K19: =IF(COUNT(#REF!,#REF!)=0,"'",AVERAGE(#REF!,#REF!)) -> '
A20: Appropriate number of trained personnel available in relation to the volume and frequency of traffic,type,size,kind of convenyance at the point of entry to ensure that conveyances are adequately and safely inspected on a timley basis and according to technical requirements. | B20: Partial | C20: =IF(B20="Y",1,IF(B20="N",0,0.5)) -> 0.5
A21: =Language!B87 -> 2. Training for inspectors | E21: =IF(COUNT(C22:C36)=0,"",AVERAGE(C22:C36)) -> 0.83333333
A22: =Language!B88 -> 2.1. Understanding of inspection standard operating procedures - Personnel have undergone a training program, can produce certificates/ documentation and/or can demonstrate a thorough understanding of standard operating procedures set in place for the sanitary inspection of conveyances, and should demonstrate competency in the following areas, according to the assigned inspection duties: | B22: Y | C22: =IF(B22="Y",1,IF(B22="N",0,0.5)) -> 1
A23: =Language!B89 -> 2.2. Required health related documents for conveyances – Demonstrable knowledge of required health related documents and the correct use of information therein for detecting, reporting, assessing and providing first control measures for public health events, according to type and kind of conveyance. | B23: Y | C23: =IF(B23="Y",1,IF(B23="N",0,0.5)) -> 1
A24: =Language!B90 -> 2.3. Epidemiological situation at the point of entry - Knowledge of common public health risks detected on a routine basis and of the usual public health risks associated with type, size, kind, common origins and destinations of conveyances that use the point of entry; | B24: Y | C24: =IF(B24="Y",1,IF(B24="N",0,0.5)) -> 1
A25: =Language!B91 -> 2.4. Public health events - Knowledge and skills for detecting, reporting, assessing and provide first control measures to public health events; | B25: Y | C25: =IF(B25="Y",1,IF(B25="N",0,0.5)) -> 1
A26: =Language!B92 -> 2.5. Public health risks from microbiological, chemical and radiological agents – Knowledge of how they can affect human health and be transmitted person to person and by food, air water, waste, vectors, fomites and the environment; | B26: Y | C26: =IF(B26="Y",1,IF(B26="N",0,0.5)) -> 1
A27: =Language!B93 -> 2.6. Personal protective techniques and related equipment - Demonstrable knowledge of application and correct use. | B27: Y | C27: =IF(B27="Y",1,IF(B27="N",0,0.5)) -> 1
A28: =Language!B94 -> 2.7. Public health measures - Demonstrable knowledge of the use of correct methods and understanding of techniques, such as: disinfection, decontamination, isolation, quarantine, contact tracing, entry and exit control. | B28: Y | C28: =IF(B28="Y",1,IF(B28="N",0,0.5)) -> 1
A29: =Language!B95 -> 2.8. Testing and sampling techniques -Demonstrable knowledge of the use of correct testing and sampling techniques and equipment to support initial observation, detection and assessment of public health risk, e.g. water, food, vector control. | B29: Y | C29: =IF(B29="Y",1,IF(B29="N",0,0.5)) -> 1
A30: =Language!B96 -> 2.9. Vector control - Demonstrable knowledge of the use of correct control methods for relevant vector-borne diseases and for hosts and vectors, including disinsecting and deratting. | B30: Y | C30: =IF(B30="Y",1,IF(B30="N",0,0.5)) -> 1
A31: =Language!B97 -> 2.10. Food safety management - Knowledge of use of correct practices for safe food management, especially with regard to handling, supply, source, preparation, storage and distribution. | B31: Y | C31: =IF(B31="Y",1,IF(B31="N",0,0.5)) -> 1
A32: =Language!B98 -> 2.11. Water safety management - Knowledge of correct practices of safe water management, especially with regard to source, storage, distribution, treatment and control methods | B32: Y | C32: =IF(B32="Y",1,IF(B32="N",0,0.5)) -> 1
A33: =Language!B99 -> 2.12. Solid and liquid waste management - Knowledge of solid and liquid waste treatment, control methods and systems for detection, assessment and recommended control measures for present and potential risks from solid and liquid waste (including bilge water and ballast water for ships). | B33: Y | C33: =IF(B33="Y",1,IF(B33="N",0,0.5)) -> 1
... A35: =Language!B101 -> 2.14. Medical facilities - Knowledge of requirements, bio safety procedures, equipment, medical chest and environmental requirements for medical facilities on board, according to the size, type and kind of conveyance and related applicable guidelines (e.g. WHO, IMO, ILO, ICAO). -Foreign language skills or arrangements for translation and interpreters, where needed. | B35: N | C35: =IF(B35="Y",1,IF(B35="N",0,0.5)) -> 0
A36: =Language!B102 -> 2.15 Air quality management –Understanding of correct practices of air health quality management. Capacity for detection, assessment and recommended control measures for present and potential risks from air quality. | B36: Partial | C36: =IF(B36="Y",1,IF(B36="N",0,0.5)) -> 0.5 | K36: =IF(COUNT(#REF!,#REF!)=0,"'",AVERAGE(#REF!,#REF!)) -> '
A37: =Language!B103 -> (d) To ensure a safe environment for travellers using point of entry facilities, including potable water supplies, eating establishments, flight catering facilities, public washrooms, appropriate solid and liquid waste disposal services and other potential risk areas, by conducting inspection programmes, as appropriate; and adequate numbers of trained staff. | F37: =IF(COUNT(D38:D66)=0,"",AVERAGE(D38:D66)) -> 0.51666667
A38: =Language!B104 -> 1. Safe environment for travellers using point of entry facilities | E38: =IF(COUNT(D39:D49)=0,"",AVERAGE(D39:D49)) -> 0.55555556
A39: =Language!B105 -> 1.1. Water A documented, tested and updated water safety programme, conducted or under supervision of competent authority; maintenance records and testing results are documented and available, including: | D39: =IF(COUNT(C40:C42)=0,"",AVERAGE(C40:C42)) -> 0.83333333
A40: =Language!B106 -> 1.1.1 Treatment Adequate treatment to remove and control public health risks. | B40: Partial | C40: =IF(B40="Y",1,IF(B40="N",0,0.5)) -> 0.5
A41: =Language!B107 -> 1.1.2 Source Potable water sources, under surveillance and supervision, in secure places, far away from sources of pollution, approved by the relevant health authority and quality considered satisfactory under national standards. | B41: Y | C41: =IF(B41="Y",1,IF(B41="N",0,0.5)) -> 1
A42: =Language!B108 -> 1.1.3 Water quality monitoring programme Water quality regularly monitored, including the effect of disinfection at the points of potable water: all present and potential public health risks from water supply are detected, assessed and recommended control measures are implemented and programme agenda, dates and results of testing and inspection are recorded and accessible, covering:  Public distribution within point of entry boundary  Passenger terminals  Cargo and container terminals  Infrastructure and courtyards  Transport and water service providers for conveyances  Water supply services for food production | B42: Y | C42: =IF(B42="Y",1,IF(B42="N",0,0.5)) -> 1
A43: =Language!B109 -> 1.2. Food Eating establishment/food suppliers/production stores approved or considered satisfactory by the relevant health administration and/or under competent authority supervision, including flight catering facilities, meals or foods and other perishable commodities that are prepared from outside the point of entry jurisdictional area, but destined for use on conveyances, are regularly monitored: all present and potential public health risks from food are detected, assessed and recommended control measures are implemented, maintenance records and testing results are documented and available. food safety, including eating and catering facilities. | B43: N | C43: =IF(B43="Y",1,IF(B43="N",0,0.5)) -> 0 | D43: =C43 -> 0
A44: =Language!B110 -> 1.3. Public washrooms Public washroom premises consistent with volume and frequency of travelers, in good operational condition and are regularly and hygienically cleaned with regard to the volume of passengers and personnel using the terminal and other facilities at the point of entry. | B44: Partial | C44: =IF(B44="Y",1,IF(B44="N",0,0.5)) -> 0.5 | D44: =C44 -> 0.5
A45: =Language!B111 -> 1.4. Solid and liquid waste– residual water Documented, tested and updated solid waste management, liquid waste – residual water management plans in place and under competent authority supervision, including: | D45: =IF(COUNT(C46:C47)=0,"",AVERAGE(C46:C47)) -> 1
A46: =Language!B112 -> 1.4.1 Waste management quality monitoring where all present and potential public health risks from solid and liquid waste are detected, assessed and recommended control measures are implemented, maintenance of records and testing results are documented and available, covering:  Public collection within Point of entry boundary  Passenger terminals  Cargo and containers terminals  Infrastructure and courtyards  Transport and liquid waste service providers for conveyances  Waste services for food production  Especial dangerous waste (Medical/infectious, chemical and other) | B46: Y | C46: =IF(B46="Y",1,IF(B46="N",0,0.5)) -> 1
A47: =Language!B113 -> 1.4.2. Final destination of the solid and liquid waste generated at the point of entry The above documented, tested and updated solid and liquid waste management programmes, including standard operating procedures, for safe transport and final destination of the solid and liquid waste generated and or treated at the point of entry, according to its type and volume. | B47: Y | C47: =IF(B47="Y",1,IF(B47="N",0,0.5)) -> 1
A48: =Language!B114 -> 1.5. Other potential risk areas: indoor air quality A documented, tested and updated indoor air quality management plan in place, where applicable, to avoid sources of contamination and infection and under competent authority supervision, where all present and potential health risks from Indoor air quality are detected and identified and recommended control measures are implemented, maintenance records and testing results are documented and available. | B48: N | C48: =IF(B48="Y",1,IF(B48="N",0,0.5)) -> 0 | D48: =C48 -> 0
A49: =Language!B115 -> 1.6.Other potential risk areas: human remains Current, regularly updated, documented and tested procedures are in place for monitoring human remains departing and arriving from affected areas and for the use of specific health measures to ensure the safe handling and transport of human remains; under the supervision of competent authority, such as measures of issuance of permits, proper sanitary treatment for leakage in the conveyance, records are available, assessable, traceable and retrievable | B49: Y | C49: =IF(B49="Y",1,IF(B49="N",0,0.5)) -> 1 | D49: =C49 -> 1
A50: =Language!B116 -> 2. Inspection programmes | E50: =IF(COUNT(D51:D66)=0,"",AVERAGE(D51:D66)) -> 0.45833333
A51: =Language!B117 -> 2.1. Sufficient number of staff for inspections Access to appropriate number of trained personnel assigned for these duties, in relation to volume and frequency of travellers and complexity of the point of entry (regarding terminal facilities, destinations and multimodal practice in place among other factors). | B51: Partial | C51: =IF(B51="Y",1,IF(B51="N",0,0.5)) -> 0.5 | D51: =C51 -> 0.5
A52: =Language!B118 -> 2.2. Competent/qualified personnel for inspection programmes Understanding of inspection standard operating procedures - Personnel have undergone a training program, can produce certificates/ documentation and/or can demonstrate a thorough understanding of standard operating procedures set in place for the sanitary inspection, and should demonstrate competency in the following areas, according to the assigned inspection duties: | D52: =IF(COUNT(C53:C64)=0,"",AVERAGE(C53:C64)) -> 0.83333333
A53: =Language!B119 -> 2.2.1. Epidemiological situation of the point of entry - Knowledge of common public health risks detected on a routine basis and of the usual public health risks associated with type, size, kind, common origins and destinations of conveyances that use the point of entry | B53: Y | C53: =IF(B53="Y",1,IF(B53="N",0,0.5)) -> 1
A54: =Language!B120 -> 2.2.2. Public health events - Knowledge and skills for detecting, reporting, assessing and providing first control measures to public health events; | B54: Y | C54: =IF(B54="Y",1,IF(B54="N",0,0.5)) -> 1
A55: =Language!B121 -> 2.2.3. Public health risks from microbiological, chemical and radiological agents – Knowledge of how they can affect human health and be transmitted person to person and by food, air water, waste, vectors, fomites and the environment; | B55: Y | C55: =IF(B55="Y",1,IF(B55="N",0,0.5)) -> 1
A56: =Language!B122 -> 2.2.4. Personal protective techniques and related equipment - Demonstrable knowledge of application and correct use. | B56: Y | C56: =IF(B56="Y",1,IF(B56="N",0,0.5)) -> 1
A57: =Language!B123 -> 2.2.5. Public health measures - Demonstrable knowledge of the use of correct methods and understanding of techniques, such as: disinfection, decontamination, isolation, quarantine, contact tracing, entry and exit control. | B57: Y | C57: =IF(B57="Y",1,IF(B57="N",0,0.5)) -> 1
A58: =Language!B124 -> 2.2.6. Testing and sampling techniques -Demonstrable knowledge of the use of correct testing and sampling techniques and equipment to support initial observation, detection and assessment of public health risk, e.g. water, food, vector control. | B58: Y | C58: =IF(B58="Y",1,IF(B58="N",0,0.5)) -> 1
A59: =Language!B125 -> 2.2.7. Vector control - Demonstrable knowledge of the use of correct control methods for relevant vector-borne diseases and for hosts and vectors, including disinsecting and deratting. | B59: Y | C59: =IF(B59="Y",1,IF(B59="N",0,0.5)) -> 1
A60: =Language!B126 -> 2.2.8. Food safety management - Knowledge of use of correct practices of safe food management, especially with regard to handling; supply, source, preparation, storage and distribution | B60: Y | C60: =IF(B60="Y",1,IF(B60="N",0,0.5)) -> 1
A61: =Language!B127 -> 2.2.9. Water safety management - Knowledge of use of correct practices of safe water management, especially with regard to source, storage, distribution, treatment and control methods | B61: Y | C61: =IF(B61="Y",1,IF(B61="N",0,0.5)) -> 1
A62: =Language!B128 -> 2.2.10. Solid and liquid waste management - Knowledge of solid and liquid waste treatment control methods and systems for detection, assessment and recommended control measures for present and potential risks from solid and liquid waste (including bilge water and ballast water for ships). | B62: Y | C62: =IF(B62="Y",1,IF(B62="N",0,0.5)) -> 1
A63: =Language!B129 -> 2.2.11 Swimming pool and SPA - Knowledge of present and potential risks from recreational swimming and spa areas and methods and systems for detection, assessment and recommended control measures (including on board systems). | B63: N | C63: =IF(B63="Y",1,IF(B63="N",0,0.5)) -> 0
A64: =Language!B130 -> 2.2.12. Medical facilities - Knowledge of requirements, bio safety procedures, equipment, medical chest and environmental requirements for medical facilities, according to the size, type and kind of conveyance and related applicable guidelines (e.g. WHO, IMO, ILO, ICAO). | B64: N | C64: =IF(B64="Y",1,IF(B64="N",0,0.5)) -> 0
A65: =Language!B131 -> 2.3. Harmful contamination other than microbial contamination, such as radionuclear sources, could also be found on ships but is outside the scope of this guidance. Both, national and international agencies exist to deal with radionuclear incidents and emergencies. The IHR National Focal Point should have the contact information for these agencies. | B65: N | C65: =IF(B65="Y",1,IF(B65="N",0,0.5)) -> 0 | D65: =C65 -> 0
A66: =Language!B132 -> 2.4. Facilities, equipment and supplies for use by inspection staff Facilities, equipment and supplies are available for use by inspection staff, according to the needs of its duties and kept in safe and hygienic conditions; including: communication devices, testing and sampling supplies and equipment, updated guidance tools and other technical information sources, personal protective equipment, vector control devices and supplies, records/data collection storage and forms; etc. | B66: Partial | C66: =IF(B66="Y",1,IF(B66="N",0,0.5)) -> 0.5 | D66: =C66 -> 0.5
A67: =Language!B133 -> (e) To provide as far as practicable a programme and trained personnel for the control of vector and reservoirs in and near points of entry | F67: =IF(COUNT(C68:C71)=0,"",AVERAGE(C68:C71)) -> 0.875
A68: =Language!B135 -> 1.Plan for vector and reservoir control Integrated vector control programme in place, including special arrangements or agreement/contract covering the following areas:  Passenger terminals  Cargo and containers terminals  Infrastructure and courtyards  Service providers facilities at terminal and for conveyance ground support operation  Surrounding areas of Point of entry (minimum 400 meters) | B68: Y | C68: =IF(B68="Y",1,IF(B68="N",0,0.5)) -> 1
A69: =Language!B136 -> 2. Trained personnel for control of vector and reservoirs Adequate number of personnel with training and knowledge to detect and control public health risks of vectors and reservoirs as well as to oversee and audit services and facilities of the point of entry. | B69: Y | C69: =IF(B69="Y",1,IF(B69="N",0,0.5)) -> 1
A70: =Language!B137 -> 3. Monitoring of vectors in the point of entry facilities and in the surrounding area of at least 400 meters from terminal. Monitoring is continously done on site: vectors and reservoirs are detected, identified, tested for pathogens and controlled. Results of the latest audit of services and facilities are available and accessible | B70: Partial | C70: =IF(B70="Y",1,IF(B70="N",0,0.5)) -> 0.5
A71: =Language!B138 -> 4. Dedicated space, equipment and supplies for use by vector and reservoir control staff. Dedicated and secure space/room for use by vector and reservoir control staff and for storage of public health equipment and supplies, including:  insecticides, rodenticides, traps and application equipment inspection equipment  workplace and supplies for staff to: prepare inspections, complete reports, and to prepare, calibrate and store sampling equipment | B71: Y | C71: =IF(B71="Y",1,IF(B71="N",0,0.5)) -> 1
A72: =Language!B139 -> (f) Special capacities according to type of point of entry (airport): | F72: =IF(COUNT(C73:C75)=0,"",AVERAGE(C73:C75)) -> 0
A73: =Language!B141 -> 1.1 Procedures in place concerning communication of events for a suspected case of communicable disease or other public health related event on board aircraft, encompassing air traffic control, airport authorities and public health sector competent authorities. | B73: N | C73: =IF(B73="Y",1,IF(B73="N",0,0.5)) -> 0
A74: =Language!B142 -> 1.2. Procedures in place to assess, monitor and safely apply aircraft disinsection and other vector control measures if required, according to WHO recommendations and guidance, as applicable (this procedures should be part of the integrated vector management control plan at the airport) | B74: N | C74: =IF(B74="Y",1,IF(B74="N",0,0.5)) -> 0
A75: =Language!B143 -> 1.3 Procedures concerning communication with aircraft and air transport operators regarding: free pratique (including radio free pratique) request and authorization; and health part of the General Declaration of Aircraft, if and when requested by national authorities | B75: N | C75: =IF(B75="Y",1,IF(B75="N",0,0.5)) -> 0
A76: =Language!B235 -> (f) Special capacities according to type of point of entry(port): | F76: =IF(COUNT(C77:C78)=0,"", AVERAGE(C77:C78)) -> 0
A77: =Language!B145 -> 2.1 Procedures concerning communication with ship and ship industry operators regarding: free pratique (including radio free pratique) request and authorization; and the Maritime Health Declaration, if and when requested by national authorities | B77: N | C77: =IF(B77="Y",1,IF(B77="N",0,0.5)) -> 0
A78: =Language!B146 -> 2.2 Arrangements in place for designated ship quarantine anchorage area, if and when requested, according to risk assessment (such as vector borne disease, ballast water, waste and other public health risks) and safety, security and facilitation principles, as applicable | B78: N | C78: =IF(B78="Y",1,IF(B78="N",0,0.5)) -> 0
A79: =Language!B236 -> (f) Special capacities according to type of point of entry(ground crossing): | F79: =IF(COUNT(C80:C81)=0,"",AVERAGE(C80:C81)) -> 0.25
A80: =Language!B232 -> 3.1 Procedures concerning communication with ground transport conveyances/ground crossing operators regarding border control measures when massive suspected cases or high public health related risk detected, if and when requested by national authority. | B80: Partial | C80: =IF(B80="Y",1,IF(B80="N",0,0.5)) -> 0.5
A81: =Language!B233 -> 3.2 Arrangements in place for carrying out public health measures on affected ground transport conveyances, when recommended or requested by national authority. | B81: N | C81: =IF(B81="Y",1,IF(B81="N",0,0.5)) -> 0

Sheet Core capacity for  PHEIC
A1: =Language!B150 -> B) Core capacity requirements for designated airports, ports and ground crossings. II - For responding to events that may constitute PHEIC (Emergencies) | F1: =IF(COUNT(E2:E40)=0,"'",AVERAGE(E2:E40)) -> 0.81547619 | G1: Observations
A2: =Language!B151 -> (a) to provide appropriate public health emergency response by establishing and maintaining a Public Health Emergency Contingency Plan, including the nomination of a coordinator and contact points for relevant point of entry, public health and other agencies and services | E2: =IF(COUNT(C3:C5)=0,"",AVERAGE(C3:C5)) -> 0.83333333
A3: =Language!B153 -> 1.Public health emergency contingency plan An agreed, updated, documented public health emergency contingency plan, integrated with other public health response plans (national/intermediate/local levels) and other emergency operational plans at point of entry, covering relevant services at point of entry and disseminated to all key stakeholders | B3: Y | C3: =IF(B3="Y",1,IF(B3="N",0,0.5)) -> 1
A4: =Language!B154 -> 2. Integration with other response plans A clearly structured allocation of functions within the public health emergency contingency plan, for all services and sectors involved at point of entry to carry out policy /guidance, coordination, management and evaluation functions during a public health response:  Coordinator/committee identified;  Sub-sector/ services contacts and plans in place  Sub-sector/services contact points identified.  contact points for key sectors/services at point of entry identified/nominated and details shared with competent authority.  integration with possible sectoral plans contact points of key sectors/services at point of entry, including public health, immigration, transportation, security, public information/media  Identification of mechanism/system in operation and procedures in place for communication/collaboration between public health authorities, within national health surveillance system, with regard to reporting, information exchange, assessment and coordinated response, in coordination with national, intermediate and local public health alert and response plans.  a reliable system for informing the local competent authority in charge to implement health measures of the pending arrival of a suspected case of a communicable disease, when traffic control or others authorities at point of entry have been notified of this by conveyances operators; | B4: Y | C4: =IF(B4="Y",1,IF(B4="N",0,0.5)) -> 1
A5: =Language!B155 -> 3. Training and/or drill exercises Periodic training and/or drill exercises to familiarize contact points of key sectors/services at point of entry with the public health contingency plan and their respective roles and functions within it. | B5: Partial | C5: =IF(B5="Y",1,IF(B5="N",0,0.5)) -> 0.5
A6: =Language!B156 -> (b) to provide assessment of, and care for, affected travellers or animals by establishing arrangements with local medical and veterinary facilities for their isolation, treatment and other support services that may be required | E6: =IF(COUNT(D7:D14)=0,"",AVERAGE(D7:D14)) -> 0.83333333
A7: =Language!B157 -> 1. Affected travellers on board | D7: =C8 -> 1
A8: =Language!B158 -> Administrative arrangements and written procedures are in place and agreed with local authorities, conveyance operators and service providers for information sharing and coordinated intersectoral alert and response actions for affected conveyances regarding support and decision making for ill or suspect traveller on board, as part of the public health emergency contingency plan. | B8: Y | C8: =IF(B8="Y",1,IF(B8="N",0,0.5)) -> 1
A9: =Language!B159 -> 2. Assessment of, and care for affected travellers | D9: =IF(COUNT(C10:C11)=0,"",AVERAGE(C10:C11)) -> 0.5
A10: =Language!B160 -> 2.1. Access to treatment, isolation and diagnostic facilities Administrative arrangements and a written, formal agreement, such as memorandum of understanding, are in place with local and/or nearby hospitals, clinics, health services, to receive affected travellers from the point of entry for isolation, treatment and other support services  This agreement should describe the potential nature of the risk (e.g. infectious disease, other sources of contamination) and the responsibilities of each signatory;  Reference source, date and expiry of the agreement;  Facilities and types of health care covered (e.g. assessment, isolation, treatment such as first aid, intensive care unit, contagious disease reference centre, etc.);  Competent/qualified personnel assigned for prompt assessment, care and isolation of affected travellers;  Access to laboratory facilities;  Access to necessary equipment, supplies and personal protective equipment (e.g. PPE) ;  Procedures in place for routine written reports of traveller transfer, follow-up care and results of laboratory analysis.  Arrangements for translation and interpreters (?) | B10: N | C10: =IF(B10="Y",1,IF(B10="N",0,0.5)) -> 0
A11: =Language!B161 -> 2.2. Key information regarding treatment, isolation and diagnostic facilities and transport of affected travellers List of all facilities to which affected travellers from the point of entry are to be transferred and names and key contact information (address, phone number, distance from point of entry and map of routes) created , disseminated and maintained/updated, regularly tested for accuracy and accessible to all relevant personnel. Key information provided to transportation services regarding the name, address, distance and route to hospitals/ clinics facility to which affected travellers from the points of entry must be taken. | B11: Y | C11: =IF(B11="Y",1,IF(B11="N",0,0.5)) -> 1
A12: =Language!B162 -> 3. Assessment, care and isolation of affected animals | D12: =IF(COUNT(C13:C14)=0,"",AVERAGE(C13:C14)) -> 1
A13: =Language!B163 -> 3.1. A written, formal agreement in place with veterinary centres to provide diagnostic tests, assessment and recommended measures related to affected animals  Staff trained in infection control and available on-site or on-call to examine affected animals;  Standby infection control plan, including adequate equipment and procedures to manage or to use other clinical care facilities to deal with heightened level of public health risk (other than routine level risk) ;  Personal protective equipment and personnel trained available to carry out assessment, treatment and isolation of affected animals; Written reports of results of affected animal diagnostic tests, follow-up care and infection control. | B13: Y | C13: =IF(B13="Y",1,IF(B13="N",0,0.5)) -> 1
A14: =Language!B164 -> 3.2. Referral and transport of animals to designated veterinary facility through appropriate safe transport arrangements. Documented administrative arrangements are in place :  Cleaning/disinfection equipment and supplies and personnel familiar with these procedures;  Personal protective equipment to transport staff. | B14: Y | C14: =IF(B14="Y",1,IF(B14="N",0,0.5)) -> 1
A15: =Language!B165 -> (c) to provide appropriate space, separate from other travellers, to interview suspect or affected persons | E15: =IF(COUNT(C16:C18)=0,"",AVERAGE(C16:C18)) -> 0.66666667
A16: =Language!B167 -> 1. Space to interview suspect or affected travellers- Hygienic and environmentally safe space(s) set aside to conduct private interviews that are of adequate size in relation to volume, type of conveyance and frequency of travellers and complexity of the point of entry (regarding terminal facilities, destinations and multimodal practice). Desirable to have independent exit passage which suspect travellers can be transported to medical care facilities, if needed, and avoid infecting other persons. Arrangements for translation and interpreters where needed | B16: Partial | C16: =IF(B16="Y",1,IF(B16="N",0,0.5)) -> 0.5
A17: =Language!B168 -> 2. Regularly updated, documented, tested on-site control measures, including equipment and products for cleaning, disinfection and decontamination, for the purpose of elimination all possible contamination at the facility used to interview affected travellers, . | B17: Partial | C17: =IF(B17="Y",1,IF(B17="N",0,0.5)) -> 0.5
A18: =Language!B169 -> 3. Personal protective equipment (PPE) for interviewing ill travellers Access to necessary equipment (e.g. PPE) for initial interview and triage. Personnel use personal protective equipment for initial interview and triage. | B18: Y | C18: =IF(B18="Y",1,IF(B18="N",0,0.5)) -> 1
A19: =Language!B170 -> (d) to provide for the assessment and, if required, quarantine of suspect travellers, preferably in facilities away from the point of entry | E19: =IF(COUNT(D20:D25)=0,"",AVERAGE(D20:D25)) -> 0.75
A20: =Language!B171 -> 1. Assessment of suspect travellers | D20: =IF(COUNT(C21:C22)=0,"",AVERAGE(C21:C22)) -> 1
A21: =Language!B172 -> 1.1. Staff Appropriate number of trained personnel, proportional to the volume and frequency of travellers, available at short notice, on or off site, to interview and to provide first assessment of suspect travellers on a timely basis. | B21: Y | C21: =IF(B21="Y",1,IF(B21="N",0,0.5)) -> 1
A22: =Language!B173 -> 1.2. Procedures for reporting Procedures in place for reporting to the competent authority at the point of entry events related to travellers, indicative of infectious disease or evidence of a public health risk to ensure appropriate assessment, care and other public health measures | B22: Y | C22: =IF(B22="Y",1,IF(B22="N",0,0.5)) -> 1
A23: =Language!B174 -> 2. Quarantine of suspect travellers | D23: =IF(COUNT(C24:C25)=0,"",AVERAGE(C24:C25)) -> 0.5
A24: =Language!B175 -> 2.1. Designation of facilities Administrative arrangements and a written, formal agreement, such as memorandum of understanding, are in place with local and/or nearby hospitals, clinics, health services, or other facilities to receive suspect travellers from the point of entry for quarantine and other support services (preferably away from the point of entry).  This agreement should describe the potential nature of the risk (e.g. infectious disease; other sources of contamination) and the responsibilities of each signatory;  Reference source, date and expiry of the agreement;  Facilities and type of support and logistics services covered;  Competent/qualified personnel for quarantine of suspected travellers, assigned to these duties;  Access to laboratory facilities;  Access to necessary equipment, supplies and personal protective equipment (e.g. PPE) ;  Procedures in place for routine written reports of traveller transfer, follow-up care and results of laboratory analysis. Arrangements for translation and interpreters where needed(?) | B24: N | C24: =IF(B24="Y",1,IF(B24="N",0,0.5)) -> 0
A25: =Language!B176 -> 2.2. Staff Appropriate number of trained personnel at the quarantine facility to recognize disease symptoms and who are familiar with procedures and measures for suspect travellers | B25: Y | C25: =IF(B25="Y",1,IF(B25="N",0,0.5)) -> 1
A26: =Language!B177 -> (e) to apply recommended measures to disinsect, derat, disinfect, decontaminate or otherwise treat baggage, cargo, containers, conveyances, goods or postal parcels including, when appropriate, at locations specially designated and equipped for this purpose | E26: =IF(COUNT(C27:C30)=0,"",AVERAGE(C27:C30)) -> 0.625
A27: =Language!B179 -> 1.Location for application of recommended measures - Depending on the movement of baggage, cargo, containers, conveyances, goods and postal parcels, a specially equipped location should be designated, for:  disinsecting  deratting  disinfecting  decontaminating The location should be properly designed to avoid possible injury/discomfort/harm to persons and damage to the environment. Factors such as wind direction and distance to human habitats should be taken into consideration, | B27: N | C27: =IF(B27="Y",1,IF(B27="N",0,0.5)) -> 0
A28: =Language!B180 -> 2. Standard operational procedures Documented, updated and tested standard operational procedures are in place | B28: Y | C28: =IF(B28="Y",1,IF(B28="N",0,0.5)) -> 1
A29: =Language!B181 -> 3. Trained staff Appropriate number of trained personnel available to apply health measures according to technical requirements, adequately and in a timely manner. | B29: Partial | C29: =IF(B29="Y",1,IF(B29="N",0,0.5)) -> 0.5
A30: =Language!B182 -> 4. Personal protective equipment Equipment available and staff trained in application of personal protective equipment | B30: Y | C30: =IF(B30="Y",1,IF(B30="N",0,0.5)) -> 1
A31: =Language!B183 -> (f) to apply entry or exit controls for arriving and departing travellers | E31: =D32 -> 1
A32: =Language!B184 -> 1. Entry or exit controls for travellers | D32: =C33 -> 1
A33: =Language!B185 -> A formal plan in place to apply entry exit controls at point of entry, if and when recommended, to enable a risk assessment of the individual traveller to be made during events that may constitute a public health emergency of international concern; the plan should have:  An identified staff/committee to make, coordinate and implement key decisions on entry/exit controls at point of entry  A communication procedure for sharing/ disseminating information to the public and travellers regarding entry/exit controls during a public health emergency  A ‘toolbox’ of methods for screening, including visual inspection, questionnaire/health declaration forms and temperature measurement (using thermal scanners or other suitable methods).  Operational standard procedures Training/briefing/drills to orient staff, including public health, airlines, travel agents, security, customs and other, on additional responsibilities in carrying out entry/exit controls.  Reliable equipment calibrated and maintained in accordance with the manufacturer’s recommendations.  Personnel trained in procedures and use of equipment and in the interpretation of recordings.  A system to incorporate the results of exit screening at airports with the national surveillance and reporting system for outbreaks of a specified illness.  Logistics, especially baggage, security and customs formalities for arriving and departing travellers, for suspected cases and for asymptomatic contacts. | B33: Y | C33: =IF(B33="Y",1,IF(B33="N",0,0.5)) -> 1
A34: =Language!B186 -> (g) to provide access to specially designated equipment and to trained personnel using appropriate personal protection, for the transfer of travellers who may carry infection or contamination | E34: =IF(COUNT(D35:D40)=0,"",AVERAGE(D35:D40)) -> 1
A35: =Language!B187 -> 1. Provide access to special equipment | D35: =C36 -> 1
A36: =Language!B188 -> Arrangements are in place for transporting suspect travellers to appropriate medical or quarantine facilities by safe, hygienic means of transport. Transport service should have in place cleaning/disinfection equipment and supplies and personal protective equipment for transport staff. | B36: Y | C36: =IF(B36="Y",1,IF(B36="N",0,0.5)) -> 1
A37: =Language!B189 -> 2. Personnel to transport suspect travellers. | D37: =IF(COUNT(C38:C40)=0,"",AVERAGE(C38:C40)) -> 1 | E37: =IF(COUNT(D38:D40)=0,"'",AVERAGE(D38:D40)) -> '
A38: =Language!B190 -> 2.1. Appropriate number of trained personnel available to transport suspect travellers according to technical requirements, adequately and in a timely manner; | B38: Y | C38: =IF(B38="Y",1,IF(B38="N",0,0.5)) -> 1
A39: =Language!B191 -> 2.2. Personnel trained in application of personal protective equipment and disinfection techniques, as applicable. | B39: Y | C39: =IF(B39="Y",1,IF(B39="N",0,0.5)) -> 1
A40: =Language!B234 -> 2.3. Personnel trained in the use of key information regarding hospital/clinic/diagnostic facilities related to the point of entry. | B40: Y | C40: =IF(B40="Y",1,IF(B40="N",0,0.5)) -> 1

Sheet Reference
A1: =Language!B201 -> Reference
A2: =Language!B202 -> Assessment tool for core capacity requirements for Designated Ports, Airports and Ground Crossings
A3: =Language!B204 -> International certificate of vaccination or prophylaxis, http://www.who.int/ihr/travel/icvp/en/index.html
A4: =Language!B208 -> International Medical Guide for Ships - WHO-IMO-ILO 3rd edition released in 2008
A5: =Language!B207 -> Interim and draft of technical advice for inspection and issuance of the Ship Sanitation Certificates, http://www.who.int/ihr/travel/TechnAdvSSC.pdf
A6: =Language!B241 -> Interim WHO Technical advice for case management of pandemic (H1N1) 2009 on ships
A7: =Language!B243 -> Guidelines for drinking-water quality, third edition, incorporating first and second addenda http://www.who.int/water_sanitation_health/dwq/gdwq3rev/en/index.html
A8: =Language!B205 -> Guidelines for TB on board aircraft - Tuberculosis and Air Travel, 3rd ed.
A9: =Language!B203 -> Guide to Hygiene and Sanitation in Aviation http://www.who.int/water_sanitation_health/hygiene/ships/guide_hygiene_sanitation_aviation_3_edition.pdf
A10: =Language!B211 -> Guide to ship sanitation( Third Edition)
A11: =Language!B210 -> WHO technical advice for case management of Influenza A(H1N1) in air transport, http://www.who.int/ihr/travel/A(H1N1)_air_transport_guidance.pdf
A12: =Language!B206 -> Public health passenger locator card, http://www.who.int/ihr/travel/locator_card/en/index.html
A13: =Language!B242 -> Recommended Procedures for Inspection and Issuance of Ship Sanitation Certificate
A14: =Language!B212 -> Sanitation on Ships Compendium of outbreaks of foodborne and waterborne disease and Legionnaires’ disease associated with ships 1970-2000, http://www.who.int/water_sanitation_health/hygiene/ships/en/shipsancomp.pdf
A15: =Language!B228 -> To be continued…..

Sheet Language
A1: ENTER IN CELL A3 THE CODE NUMBER OF THE LANGUAGE
A3: 1 | C3: 1- English | D3: 2- French
A4: =A3 -> 1 | B4: =IF(A4=2,D4,C4) -> PoE identification | C4: PoE identification | D4: Identification du point d'entrée
A5: =A4 -> 1 | B5: =IF(A5=2,D5,C5) -> PoE name | C5: PoE name | D5: Nom du point d'entrée
A6: =A5 -> 1 | B6: =IF(A6=2,D6,C6) -> Contact details of competent authority/agency | C6: Contact details of competent authority/agency | D6: Coordonnées de l’autorité/l’agence compétente
A7: =A6 -> 1 | B7: =IF(A7=2,D7,C7) -> Address | C7: Address | D7: Adresse
A8: =A5 -> 1 | B8: =IF(A8=2,D8,C8) -> Telephone | C8: Telephone | D8: Téléphone
A9: =A8 -> 1 | B9: =IF(A9=2,D9,C9) -> Fax | C9: Fax | D9: Télécopie
A10: =A9 -> 1 | B10: =IF(A10=2,D10,C10) -> E-mail | C10: E-mail | D10: Courriel
B11: =IF(A11=2,D11,C11) -> Web address | C11: Web address | D11: Adresse web
A12: =A10 -> 1 | B12: =IF(A12=2,D12,C12) -> Contact details of person | C12: Contact details of person | D12: Coordonnées
A13: =A12 -> 1 | B13: =IF(A13=2,D13,C13) -> Address | C13: Address | D13: Adresse
A14: =A13 -> 1 | B14: =IF(A14=2,D14,C14) -> Telephone | C14: Telephone | D14: Téléphone
A15: =A14 -> 1 | B15: =IF(A15=2,D15,C15) -> Fax | C15: Fax | D15: Télécopie
A16: =A15 -> 1 | B16: =IF(A16=2,D16,C16) -> E-mail | C16: E-mail | D16: Courriel
A17: =A16 -> 1 | B17: =IF(A17=2,D17,C17) -> Web address | C17: Web address | D17: Adresse web
A18: =A17 -> 1 | B18: =IF(A18=2,D18,C18) -> National requirements and legislation related to public health measures at PoE and other information (Links): | C18: National requirements and legislation related to public health measures at PoE and other information (Links): | D18: Dispositions et législation nationales liées aux mesures de santé publique aux points d'entrée et autres informations (liens) :
A19: =A18 -> 1 | B19: =IF(A19=2,D19,C19) -> Useful links | C19: Useful links | D19: Liens utiles
A20: =A19 -> 1 | B20: Identification | C20: Identification | D20: Identification
A21: =A20 -> 1 | B21: =IF(A19=2,D21,C21) -> Name | C21: Name | D21: Nom
A22: =A21 -> 1 | B22: =IF(A22=2,D22,C22) -> Type:Airport/Port/Ground Crossings | C22: Type:Airport/Port/Ground Crossings | D22: Type : Aéroport/Port/Poste-frontière
A23: =A22 -> 1 | B23: =IF(A23=2,D23,C23) -> code UNlcode or ICAO or IATA | C23: code UNlcode or ICAO or IATA | D23: UNIcode ou code de l'Organisation de l'aviation civile internationale ou de l'Association internationale du transport aérien
A24: =A23 -> 1 | B24: =IF(A24=2,D24,C24) -> SHIP SANITATION CERTFICATES | C24: SHIP SANITATION CERTFICATES | D24: Certificats de contrôle sanitaire de navire
A25: =A24 -> 1 | B25: =IF(A25=2,D25,C25) -> SSCC | C25: SSCC | D25: Certificat de contrôle sanitaire de navire
A26: =A25 -> 1 | B26: =IF(A26=2,D26,C26) -> SSCEC | C26: SSCEC | D26: Certificat d’exemption de contrôle sanitaire de navire
A27: =A26 -> 1 | B27: Extensions | C27: Extensions | D27: Prolongations
A28: =A27 -> 1 | B28: =IF(A28=2,D28,C28) -> Points of entry - core capacity | C28: Points of entry - core capacity | D28: Points d'entrée – principale capacité
A29: =A28 -> 1 | B29: =IF(A29=2,D29,C29) -> Designated | C29: Designated | D29: Désigné(s)
A30: =A29 -> 1 | B30: =IF(A30=2,D30,C30) -> Date | C30: Date | D30: Date
A31: =A30 -> 1 | B31: =IF(A31=2,D31,C31) -> No Info | C31: No Info | D31: Pas d'information disponible
A32: =A31 -> 1 | B32: =IF(A32=2,D32,C32) -> Assessed | C32: Assessed | D32: Evalué(s)
A33: =A32 -> 1 | B33: =IF(A33=2,D33,C33) -> Date | C33: Date | D33: Date
A34: =A33 -> 1 | B34: =IF(A34=2,D34,C34) -> No info | C34: No info | D34: Pas d'information disponible
A35: =A34 -> 1 | B35: =IF(A35=2,D35,C35) -> Core capacity B.1.at all times | C35: Core capacity B.1.at all times | D35: Principale capacité B.1. à tout moment
A36: =A35 -> 1 | B36: =IF(A36=2,D36,C36) -> B.1.(a) | C36: B.1.(a) | D36: B.1.(a)
A37: =A36 -> 1 | B37: =IF(A37=2,D37,C37) -> B.1.(b) | C37: B.1.(b) | D37: B.1.(b)
A38: =A37 -> 1 | B38: =IF(A38=2,D38,C38) -> B.1.(c) | C38: B.1.(c) | D38: B.1.(c)
A39: =A38 -> 1 | B39: =IF(A39=2,D39,C39) -> B.1.(d) | C39: B.1.(d) | D39: B.1.(d)
... A48: =A47 -> 1 | B48: =IF(A48=2,D48,C48) -> 1.International communication link with competent authorities at other points of entry | C48: 1.International communication link with competent authorities at other points of entry | D48: 1. Réseau international de communication avec les autorités compétentes des autres points d’entrée
A49: =A47 -> 1 | B49: =IF(A49=2,D49,C49) -> Competent authority at each point of entry has current contact details of officers in charge of international communication with other points of entry abroad and means of communication and procedures are available to inform relevant public health measures taken pursuant to the International Health Regulations, such as: - communication with competent authorities at other points of entry, internationally, to provide relevant information regarding evidence found and control measures still needed on arrival of affected conveyance. | C49: Competent authority at each point of entry has current contact details of officers in charge of international communication with other points of entry abroad and means of communication and procedures are available to inform relevant public health measures taken pursuant to the International Health Regulations, such as: - communication with competent authorities at other points of entry, internationally, to provide relevant information regarding evidence found and control measures still needed on arrival of affected conveyance. | D49: Les autorités compétentes à chaque point d’entrée possèdent les coordonnées détaillées des agents en charge de la communication internationale avec les points d’entrée à l’étranger, et les moyens de communication et les procédures sont disponibles pour étayer les mesures de santé publique prises conformément au RSI, telles que : - communication avec les autorités compétentes des autres points d’entrée, sur le plan international, pour fournir les informations pertinentes concernant les faits relevés et les mesures de lutte nécessaires à l’arrivée du moyen de transport affecté.
A50: =A49 -> 1 | B50: =IF(A50=2,D50,C50) -> 2. National communication link between competent authorities at points of entry and health authorities at local, intermediate and national levels | C50: 2. National communication link between competent authorities at points of entry and health authorities at local, intermediate and national levels | D50: 2. Réseau national de communication entre les autorités compétentes du point d’entrée et les autorités sanitaires aux niveaux local, intermédiaire et national
A51: =A50 -> 1 | B51: =IF(A51=2,D51,C51) -> Local, intermediate and national levels (including National IHR Focal Point) have current contact details of competent authorities at points of entry and current, regularly updated, documented and tested procedures, including any Memorandum of Understanding - MoU and protocols are in place for routine and urgent communication and collaboration during a public health emergency of international concern with: 1) the competent authority at other points of entry and health authorities at local, intermediate and national levels; 2) other relevant government ministries, agencies, government authorities and other partners involved with points of entry activities | C51: Local, intermediate and national levels (including National IHR Focal Point) have current contact details of competent authorities at points of entry and current, regularly updated, documented and tested procedures, including any Memorandum of Understanding - MoU and protocols are in place for routine and urgent communication and collaboration during a public health emergency of international concern with: 1) the competent authority at other points of entry and health authorities at local, intermediate and national levels; 2) other relevant government ministries, agencies, government authorities and other partners involved with points of entry activities | D51: Les niveaux locaux, intermédiaires et nationaux (y compris le point focal national RSI) possèdent les coordonnées détaillées et à jour des autorités compétentes aux points d’entrée, les procédures courantes, documentées et régulièrement testées, y compris tout mémorandum d’accord – procédures et mémorandums d’accord sont établis pour des communications et des collaborations de routine et d’urgence pendant une urgence de santé publique de portée internationale avec : 1) l’autorité compétente aux autres points d’entrée et les autorités sanitaires aux niveaux local, intermédiaire et national ; 2) les autres ministères, agences, autorités et partenaires concernés par les activités du point d’entrée.
A52: =A51 -> 1 | B52: =IF(A52=2,D52,C52) -> Competent authority at each point of entry has current contact details of officers within local, intermediate and national levels, including contact details of National IHR Focal Point and means of communication and procedures are available to inform relevant public health measures taken pursuant to the International Health Regulations. Such as: - To communicate with NFP in order to inform WHO within 24 hours of receipt of evidence, as manifested by exported or imported: 1) human cases; 2) vectors which may carry infection or contamination, or 3) goods that are contaminated, that may cause international disease spread - report all available essential information on event occurring at point of entry by competent authority to health authority at local, intermediate or national level for public health assessment, care and response. - for communication with competent authorities at other points of entry, nationally, to provide relevant information regarding evidence found and control measures needed on arrival of affected conveyance. | C52: Competent authority at each point of entry has current contact details of officers within local, intermediate and national levels, including contact details of National IHR Focal Point and means of communication and procedures are available to inform relevant public health measures taken pursuant to the International Health Regulations. Such as: - To communicate with NFP in order to inform WHO within 24 hours of receipt of evidence, as manifested by exported or imported: 1) human cases; 2) vectors which may carry infection or contamination, or 3) goods that are contaminated, that may cause international disease spread - report all available essential information on event occurring at point of entry by competent authority to health authority at local, intermediate or national level for public health assessment, care and response. - for communication with competent authorities at other points of entry, nationally, to provide relevant information regarding evidence found and control measures needed on arrival of affected conveyance. | D52: Les autorités compétentes à chaque point d’entrée possèdent les coordonnées à jour des responsables, aux niveaux local, intermédiaire et national, incluant notamment les coordonnées du point focal national RSI et les moyens de communication et les procédures sont disponibles pour étayer les mesures de santé publique prises conformément au RSI, telles que : - Communication avec le point focal national afin d’informer l’OMS, dans les 24 heures suivant la réception de preuves démontrées de l’existence, à l’entrée ou à la sortie, de : 1) cas humains ; 2) vecteurs qui peuvent transmettre une infection ou une contamination ou 3) marchandises contaminées, qui peuvent être à l’origine de la propagation internationale d’une maladie ; ou 4) mise en œuvre médicalement justifiée de mesures de santé complémentaires dans les 48 heures. - Notifier l’ensemble des informations essentielles sur l’événement s’étant produit au point d’entrée fournies par les autorités compétentes aux autorités sanitaires aux niveaux local, intermédiaire et national pour l’évaluation, la prise en charge et la réponse de santé publique appropriée. - Communication avec les autorités compétentes des autres points d’entrée nationaux pour fournir les informations pertinentes sur les faits relevés et les mesures de lutte requises à l’arrivée d’un moyen de transport affecté.
A53: =A52 -> 1 | B53: =IF(A53=2,D53,C53) -> 3.Direct operational link with other senior health officials | C53: 3.Direct operational link with other senior health officials | D53: 3. Lien opérationnel direct avec les autres hauts responsables sanitaires
A54: =A53 -> 1 | B54: =IF(A54=2,D54,C54) -> Current, regularly updated, documented and tested procedures, including any MoU and protocols, for direct operational link between local point of entry competent authority officer and other senior health officials, are in place for rapid decision approval, risk assessment and implementation of containment and controls measures | C54: Current, regularly updated, documented and tested procedures, including any MoU and protocols, for direct operational link between local point of entry competent authority officer and other senior health officials, are in place for rapid decision approval, risk assessment and implementation of containment and controls measures | D54: Les procédures courantes, régulièrement mises à jour, documentées et testées, y compris les mémorandums d’accord et les protocoles, décrivant les liens opérationnels directs entre le responsable de l’autorité compétente au point d’entrée et les autres hauts responsables des autorités sanitaires, sont établies pour une prise de décisions, une évaluation du risque et une mise en œuvre de mesures de confinement et de lutte dans les meilleurs délais.
A55: =A54 -> 1 | B55: =IF(A55=2,D55,C55) -> 4. Communication link with conveyance operators | C55: 4. Communication link with conveyance operators | D55: 4. Modalités de communication avec les opérateurs de transport
A56: =A55 -> 1 | B56: =IF(A56=2,D56,C56) -> Current contact details of conveyance operators (including its agents or legal representatives at shore), means of communication and procedures are available for advance notice of application of control measures, for issuance of Ship Sanitation Certificates and for receipt of other health documents and conveyance operators provided with current contact details of competent authority. | C56: Current contact details of conveyance operators (including its agents or legal representatives at shore), means of communication and procedures are available for advance notice of application of control measures, for issuance of Ship Sanitation Certificates and for receipt of other health documents and conveyance operators provided with current contact details of competent authority. | D56: Les coordonnées actualisées des opérateurs de transport (y compris de leurs agents ou représentants légaux sur place), les moyens de communication et les procédures sont disponibles pour la notification précoce de l’application des mesures de lutte, la délivrance des certificats de contrôle sanitaire des navires et pour la réception des autres documents de santé. Les coordonnées des autorités compétentes sont fournies aux opérateurs de transport.
A57: =A56 -> 1 | B57: =IF(A57=2,D57,C57) -> 5. Communication link with travellers for health related information | C57: 5. Communication link with travellers for health related information | D57: 5. Modalités de communication avec les voyageurs pour des informations liées à la santé
A58: =A57 -> 1 | B58: =IF(A58=2,D58,C58) -> Current contact details of competent authority at point of entry and means of communication and procedures are available for notice of application of control measures, for receipt of health documents and to provide health related information for travellers. | C58: Current contact details of competent authority at point of entry and means of communication and procedures are available for notice of application of control measures, for receipt of health documents and to provide health related information for travellers. | D58: Les coordonnées courantes des autorités compétentes au point d’entrée, les moyens de communication et les procédures sont disponibles pour la notification de l’application des mesures de lutte, la réception des documents de santé et pour fournir des informations sanitaires aux voyageurs.
A59: =A58 -> 1 | B59: =IF(A59=2,D59,C59) -> 6. Communication link with service providers | C59: 6. Communication link with service providers | D59: 6. Modalités de communication avec les prestataires de services
A60: =A59 -> 1 | B60: =IF(A60=2,D60,C60) -> Current contact details of service providers and means of communication and procedures are available for advance notice of application of control measures. Service providers have current contact details of competent authority: | C60: Current contact details of service providers and means of communication and procedures are available for advance notice of application of control measures. Service providers have current contact details of competent authority: | D60: Les coordonnées courantes des prestataires de services, les moyens de communication et les procédures sont disponibles pour la notification précoce de l’application des mesures de lutte. Les coordonnées des autorités compétentes sont fournies aux prestataires de services.
A61: =A60 -> 1 | B61: =IF(A61=2,D61,C61) -> 7. Assessment of all reports of urgent events within 24 hrs | C61: 7. Assessment of all reports of urgent events within 24 hrs | D61: 7. Evaluation de tous les rapports sur les événements urgents en moins de 24 heures
... A133: =A132 -> 1 | B133: =IF(A133=2,D133,C133) -> (e) To provide as far as practicable a programme and trained personnel for the control of vector and reservoirs in and near points of entry | C133: (e) To provide as far as practicable a programme and trained personnel for the control of vector and reservoirs in and near points of entry | D133: e) Mettre en place, dans la mesure où cela est possible dans la pratique, un programme et du personnel qualifié pour lutter contre les vecteurs et les réservoirs aux points d’entrée et à proximité de ceux-ci
A134: =A133 -> 1
A135: =A134 -> 1 | B135: =IF(A135=2,D135,C135) -> 1.Plan for vector and reservoir control Integrated vector control programme in place, including special arrangements or agreement/contract covering the following areas:  Passenger terminals  Cargo and containers terminals  Infrastructure and courtyards  Service providers facilities at terminal and for conveyance ground support operation  Surrounding areas of Point of entry (minimum 400 meters) | C135: 1.Plan for vector and reservoir control Integrated vector control programme in place, including special arrangements or agreement/contract covering the following areas:  Passenger terminals  Cargo and containers terminals  Infrastructure and courtyards  Service providers facilities at terminal and for conveyance ground support operation  Surrounding areas of Point of entry (minimum 400 meters) | D135: 1. Plan de lutte contre les vecteurs et réservoirs Mise en place d’un programme intégré de lutte antivectorielle, qui comporte notamment des arrangements ou des accords/contrats spéciaux portant sur les domaines suivants :  Les aérogares passagers  Les terminaux pour marchandises et conteneurs  Les infrastructures et tarmacs  Les installations des prestataires de services dans les terminaux et pour les opérations d'assistance des transferts au sol  Périmètre du point d’entrée (au moins 400 mètres).
A136: =A135 -> 1 | B136: =IF(A136=2,D136,C136) -> 2. Trained personnel for control of vector and reservoirs Adequate number of personnel with training and knowledge to detect and control public health risks of vectors and reservoirs as well as to oversee and audit services and facilities of the point of entry. | C136: 2. Trained personnel for control of vector and reservoirs Adequate number of personnel with training and knowledge to detect and control public health risks of vectors and reservoirs as well as to oversee and audit services and facilities of the point of entry. | D136: 2. Personnel formé en matière de lutte contre les vecteurs et réservoirs Un personnel en nombre suffisant formé et informé aux fins de détecter et de lutter contre les risques de santé publique associés aux vecteurs et aux réservoirs, ainsi qu’en matière de surveillance et de contrôle des services et installations au point d'entrée.
A137: =A136 -> 1 | B137: =IF(A137=2,D137,C137) -> 3. Monitoring of vectors in the point of entry facilities and in the surrounding area of at least 400 meters from terminal. Monitoring is continously done on site: vectors and reservoirs are detected, identified, tested for pathogens and controlled. Results of the latest audit of services and facilities are available and accessible | C137: 3. Monitoring of vectors in the point of entry facilities and in the surrounding area of at least 400 meters from terminal. Monitoring is continously done on site: vectors and reservoirs are detected, identified, tested for pathogens and controlled. Results of the latest audit of services and facilities are available and accessible | D137: 3. 3. Surveillance des vecteurs au niveau des installations du point d’entrée et dans un périmètre d'au moins 400 mètres autour du terminal Surveillance active sur place : détection, identification, tests des agents pathogènes et contrôle des vecteurs et réservoirs. Les résultats du dernier contrôle des services et des installations sont disponibles et consultables.
A138: =A137 -> 1 | B138: =IF(A138=2,D138,C138) -> 4. Dedicated space, equipment and supplies for use by vector and reservoir control staff. Dedicated and secure space/room for use by vector and reservoir control staff and for storage of public health equipment and supplies, including:  insecticides, rodenticides, traps and application equipment inspection equipment  workplace and supplies for staff to: prepare inspections, complete reports, and to prepare, calibrate and store sampling equipment | C138: 4. Dedicated space, equipment and supplies for use by vector and reservoir control staff. Dedicated and secure space/room for use by vector and reservoir control staff and for storage of public health equipment and supplies, including:  insecticides, rodenticides, traps and application equipment inspection equipment  workplace and supplies for staff to: prepare inspections, complete reports, and to prepare, calibrate and store sampling equipment | D138: 4. Espace réservé, équipements et fournitures à utiliser par le personnel en charge de la lutte contre les vecteurs et les réservoirs Espace sécurisé et réservé au personnel en charge de la lutte contre les vecteurs et les réservoirs et destiné au stockage des équipements et fournitures de santé publique, à savoir :  les insecticides, rodenticides, pièges et matériel d’application  les équipements d’inspection  le lieu de travail et les fournitures dont le personnel a besoin pour préparer les inspections, élaborer les comptes rendus et préparer, calibrer et ranger les équipements de prélèvement.
A139: =A138 -> 1 | B139: =IF(A139=2,D139,C139) -> (f) Special capacities according to type of point of entry (airport): | C139: (f) Special capacities according to type of point of entry (airport): | D139: (f) Capacités spéciales selon le type de point d’entrée (aéroports)
A140: =A139 -> 1 | B140: =IF(A140=2,D140,C140) -> 1.Airports | C140: 1.Airports | D140: 1. Aéroports
A141: =A140 -> 1 | B141: =IF(A141=2,D141,C141) -> 1.1 Procedures in place concerning communication of events for a suspected case of communicable disease or other public health related event on board aircraft, encompassing air traffic control, airport authorities and public health sector competent authorities. | C141: 1.1 Procedures in place concerning communication of events for a suspected case of communicable disease or other public health related event on board aircraft, encompassing air traffic control, airport authorities and public health sector competent authorities. | D141: 1.1. Mise en place de procédures relatives à la communication des évènements se produisant à bord des aéronefs impliquant le contrôle du trafic aérien, les autorités aéroportuaires ainsi que les autorités de santé publique compétentes, en cas de suspicion de maladie transmissible ou d’évènement lié à la santé publique.
A142: =A141 -> 1 | B142: =IF(A142=2,D142,C142) -> 1.2. Procedures in place to assess, monitor and safely apply aircraft disinsection and other vector control measures if required, according to WHO recommendations and guidance, as applicable (this procedures should be part of the integrated vector management control plan at the airport) | C142: 1.2. Procedures in place to assess, monitor and safely apply aircraft disinsection and other vector control measures if required, according to WHO recommendations and guidance, as applicable (this procedures should be part of the integrated vector management control plan at the airport) | D142: 1.2. Mise en place de procédures permettant d’évaluer, de contrôler et d’effectuer, en toute sécurité, la désinsectisation de l’aéronef ainsi que d’autres mesures de lutte antivectorielle si nécessaire, conformément aux recommandations et directives de l’OMS (ces procédures doivent faire partie, pour l’aéroport, du plan global de lutte antivectorielle).
A143: =A142 -> 1 | B143: =IF(A143=2,D143,C143) -> 1.3 Procedures concerning communication with aircraft and air transport operators regarding: free pratique (including radio free pratique) request and authorization; and health part of the General Declaration of Aircraft, if and when requested by national authorities | C143: 1.3 Procedures concerning communication with aircraft and air transport operators regarding: free pratique (including radio free pratique) request and authorization; and health part of the General Declaration of Aircraft, if and when requested by national authorities | D143: 1.3. Procédures relatives à la communication avec l’aéronef et les exploitants du transport aérien, concernant la demande et l’autorisation de libre pratique (notamment par radio) ainsi que la partie traitant des questions sanitaires de la Déclaration générale d’aéronef, si requises par les autorités nationales.
A144: =A143 -> 1 | B144: =IF(A144=2,D144,C144) -> 2.Ports and ships | C144: 2.Ports and ships | D144: 2. Ports et navires
A145: =A144 -> 1 | B145: =IF(A145=2,D145,C145) -> 2.1 Procedures concerning communication with ship and ship industry operators regarding: free pratique (including radio free pratique) request and authorization; and the Maritime Health Declaration, if and when requested by national authorities | C145: 2.1 Procedures concerning communication with ship and ship industry operators regarding: free pratique (including radio free pratique) request and authorization; and the Maritime Health Declaration, if and when requested by national authorities | D145: 2.1. Procédures relatives à la communication avec les navires et les exploitants de l’industrie maritime, concernant la demande et l’autorisation de libre pratique (notamment par radio) ainsi que la Déclaration maritime de santé, si requises par les autorités nationales.
A146: =A145 -> 1 | B146: =IF(A146=2,D146,C146) -> 2.2 Arrangements in place for designated ship quarantine anchorage area, if and when requested, according to risk assessment (such as vector borne disease, ballast water, waste and other public health risks) and safety, security and facilitation principles, as applicable | C146: 2.2 Arrangements in place for designated ship quarantine anchorage area, if and when requested, according to risk assessment (such as vector borne disease, ballast water, waste and other public health risks) and safety, security and facilitation principles, as applicable | D146: 2.2. Aménagements mis en place sur la zone désignée pour le placement sous quarantaine des navires à l’ancrage, en cas de nécessité et en fonction de l’évaluation du risque (tel que les maladies à transmission vectorielle, eaux de ballast, déchets et tout autre risque pour la santé publique), et des principes de sûreté, de sécurité et de facilitation.
A147: =A146 -> 1 | B147: =IF(A147=2,D147,C147) -> 3.Ground crossing | C147: 3.Ground crossing | D147: 3. Postes-frontières
B148: 3.1 Procedures concerning communication with ground transport conveyance and ground crossing operator regarding border control measures when mass suspect cases or high public health related risk detected, if and when requested by national authority. | C148: 3.1 Procedures concerning communication with ground transport conveyance and ground crossing operator regarding border control measures when mass suspect cases or high public health related risk detected, if and when requested by national authority. | D148: 3.1. Procédures relatives à la communication avec les transporteurs par voie terrestre, les autorités aux postes-frontières concernant les mesures de contrôle aux frontières dans l’éventualité d’un nombre important de cas suspects ou de détection d’un risque élevé en termes de santé publique, si requises par les autorités nationales.
B149: 3.2 Arrangements in place for carrying out public health measures on affected ground transport conveyances, when recommended or requested by national authority. | C149: 3.2 Arrangements in place for carrying out public health measures on affected ground transport conveyances, when recommended or requested by national authority. | D149: 3.2. Mise en place d’aménagements en vue de l’application des mesures de santé publique concernant les transporteurs affectés, sur recommandation ou exigence des autorités nationales.
A150: =A147 -> 1 | B150: =IF(A150=2,D150,C150) -> B) Core capacity requirements for designated airports, ports and ground crossings. II - For responding to events that may constitute PHEIC (Emergencies) | C150: B) Core capacity requirements for designated airports, ports and ground crossings. II - For responding to events that may constitute PHEIC (Emergencies) | D150: B) Liste de contrôle relative aux principales capacités requises des ports, aéroports et postes-frontières désignés II - Pour faire face à un événement pouvant constituer une urgence de santé publique de portée internationale (USPPI)
A151: =A150 -> 1 | B151: =IF(A151=2,D151,C151) -> (a) to provide appropriate public health emergency response by establishing and maintaining a Public Health Emergency Contingency Plan, including the nomination of a coordinator and contact points for relevant point of entry, public health and other agencies and services | C151: (a) to provide appropriate public health emergency response by establishing and maintaining a Public Health Emergency Contingency Plan, including the nomination of a coordinator and contact points for relevant point of entry, public health and other agencies and services | D151: (a) Organiser une action appropriée en établissant et en maintenant un plan d’intervention pour les urgences de santé publique, y compris la désignation d’un coordinateur et de responsables pour les points d'entrée, les organismes et services de santé publique et autres agences et services concernés
A152: =A151 -> 1 | B152: =IF(A152=2,D152,C152) -> 1. Public health contingency plan | C152: 1. Public health contingency plan | D152: 1. Plan d’intervention pour les urgences de santé publique
A153: =A152 -> 1 | B153: =IF(A153=2,D153,C153) -> 1.Public health emergency contingency plan An agreed, updated, documented public health emergency contingency plan, integrated with other public health response plans (national/intermediate/local levels) and other emergency operational plans at point of entry, covering relevant services at point of entry and disseminated to all key stakeholders | C153: 1.Public health emergency contingency plan An agreed, updated, documented public health emergency contingency plan, integrated with other public health response plans (national/intermediate/local levels) and other emergency operational plans at point of entry, covering relevant services at point of entry and disseminated to all key stakeholders | D153: 1. Plan d’intervention pour les urgences de santé publique avalisé, actualisé et documenté, intégré à d’autres plans d’action de santé publique (aux niveaux national/intermédiaire/local) et d’autres plans opérationnels d'urgence au point d’entrée, portant sur les services concernés au point d’entrée et communiqué à l’ensemble des parties prenantes.
A154: =A153 -> 1 | B154: =IF(A154=2,D154,C154) -> 2. Integration with other response plans A clearly structured allocation of functions within the public health emergency contingency plan, for all services and sectors involved at point of entry to carry out policy /guidance, coordination, management and evaluation functions during a public health response:  Coordinator/committee identified;  Sub-sector/ services contacts and plans in place  Sub-sector/services contact points identified.  contact points for key sectors/services at point of entry identified/nominated and details shared with competent authority.  integration with possible sectoral plans contact points of key sectors/services at point of entry, including public health, immigration, transportation, security, public information/media  Identification of mechanism/system in operation and procedures in place for communication/collaboration between public health authorities, within national health surveillance system, with regard to reporting, information exchange, assessment and coordinated response, in coordination with national, intermediate and local public health alert and response plans.  a reliable system for informing the local competent authority in charge to implement health measures of the pending arrival of a suspected case of a communicable disease, when traffic control or others authorities at point of entry have been notified of this by conveyances operators; | C154: 2. Integration with other response plans A clearly structured allocation of functions within the public health emergency contingency plan, for all services and sectors involved at point of entry to carry out policy /guidance, coordination, management and evaluation functions during a public health response:  Coordinator/committee identified;  Sub-sector/ services contacts and plans in place  Sub-sector/services contact points identified.  contact points for key sectors/services at point of entry identified/nominated and details shared with competent authority.  integration with possible sectoral plans contact points of key sectors/services at point of entry, including public health, immigration, transportation, security, public information/media  Identification of mechanism/system in operation and procedures in place for communication/collaboration between public health authorities, within national health surveillance system, with regard to reporting, information exchange, assessment and coordinated response, in coordination with national, intermediate and local public health alert and response plans.  a reliable system for informing the local competent authority in charge to implement health measures of the pending arrival of a suspected case of a communicable disease, when traffic control or others authorities at point of entry have been notified of this by conveyances operators; | D154: 2. Intégration aux autres plans d’action Une répartition claire et structurée des fonctions dans le plan d’intervention pour les urgences de santé publique, et ce pour tous les services et secteurs concernés au point d’entrée afin qu’ils s’acquittent de leur mission de conduite/d’orientation, de coordination, de gestion et d’évaluation lors d’une action de santé publique :  Identification d’un coordinateur/comité ;  Mise en place de contacts et de plans par sous-secteur/service ;  Identification des points de contact des sous-secteurs/services ;  Identification/désignation des points de contact dans les secteurs/services clés du point d’entrée et transmission des coordonnées aux autorités compétentes ;  Intégration avec d’autres points de contact des plans sectoriels des principaux secteurs/services du point d’entrée, dont la santé publique, l’immigration, les transports, la sécurité, l’information du public/les médias ;  Identification du mécanisme/système mis en œuvre et des procédures en place en matière de communication/coopération entre les autorités de santé publique, dans le cadre du système de surveillance nationale, concernant le compte rendu, l’information, l’échange, l’évaluation et la coordination de l’action, en collaboration avec les plans d’alerte et d’action de santé publique à l’échelle locale ;  Un système fiable permettant d’informer les autorités locales compétentes chargées de la mise en œuvre de mesures sanitaires en cas de suspicion de maladie contagieuse, dès lors que les autorités de contrôle du trafic ou les autres autorités au point d'entrée en ont été informées par les exploitants de moyens de transport.
A155: =A154 -> 1 | B155: =IF(A155=2,D155,C155) -> 3. Training and/or drill exercises Periodic training and/or drill exercises to familiarize contact points of key sectors/services at point of entry with the public health contingency plan and their respective roles and functions within it. | C155: 3. Training and/or drill exercises Periodic training and/or drill exercises to familiarize contact points of key sectors/services at point of entry with the public health contingency plan and their respective roles and functions within it. | D155: 3. Formation et/ou exercices Formation périodique et/ou exercices de simulation permettant aux points de contact des principaux secteurs/services du point d’entrée de se familiariser avec le plan d’intervention pour les urgences de santé publique et les rôles et fonctions qu’ils doivent respectivement assumer dans ce cadre.
A156: =A155 -> 1 | B156: =IF(A156=2,D156,C156) -> (b) to provide assessment of, and care for, affected travellers or animals by establishing arrangements with local medical and veterinary facilities for their isolation, treatment and other support services that may be required | C156: (b) to provide assessment of, and care for, affected travellers or animals by establishing arrangements with local medical and veterinary facilities for their isolation, treatment and other support services that may be required | D156: (b) Assurer l’évaluation et la prise en charge des voyageurs ou animaux affectés en passant des accords avec les services médicaux et vétérinaires locaux pour permettre leur isolement et leur traitement, et offrir tous autres services d’assistance nécessaires
A157: =A156 -> 1 | B157: =IF(A157=2,D157,C157) -> 1. Affected travellers on board | C157: 1. Affected travellers on board | D157: 1. Voyageurs affectés à bord
A158: =A157 -> 1 | B158: =IF(A158=2,D158,C158) -> Administrative arrangements and written procedures are in place and agreed with local authorities, conveyance operators and service providers for information sharing and coordinated intersectoral alert and response actions for affected conveyances regarding support and decision making for ill or suspect traveller on board, as part of the public health emergency contingency plan. | C158: Administrative arrangements and written procedures are in place and agreed with local authorities, conveyance operators and service providers for information sharing and coordinated intersectoral alert and response actions for affected conveyances regarding support and decision making for ill or suspect traveller on board, as part of the public health emergency contingency plan. | D158: Des accords administratifs et des procédures écrites sont instaurés et avalisés par les autorités locales, les exploitants de moyens de transport et les prestataires de services ; pour le partage de l'information : coordination de l'alerte intersectorielle et des actions de réponse ; pour les moyens de transport touchés : assistance et prise de décisions concernant le voyageur malade ou suspect à bord, dans le cadre du plan d’intervention pour les urgences de santé publique.
A159: =A158 -> 1 | B159: =IF(A159=2,D159,C159) -> 2. Assessment of, and care for affected travellers | C159: 2. Assessment of, and care for affected travellers | D159: 2. Evaluation et prise en charge des voyageurs affectés
A160: =A159 -> 1 | B160: =IF(A160=2,D160,C160) -> 2.1. Access to treatment, isolation and diagnostic facilities Administrative arrangements and a written, formal agreement, such as memorandum of understanding, are in place with local and/or nearby hospitals, clinics, health services, to receive affected travellers from the point of entry for isolation, treatment and other support services  This agreement should describe the potential nature of the risk (e.g. infectious disease, other sources of contamination) and the responsibilities of each signatory;  Reference source, date and expiry of the agreement;  Facilities and types of health care covered (e.g. assessment, isolation, treatment such as first aid, intensive care unit, contagious disease reference centre, etc.);  Competent/qualified personnel assigned for prompt assessment, care and isolation of affected travellers;  Access to laboratory facilities;  Access to necessary equipment, supplies and personal protective equipment (e.g. PPE) ;  Procedures in place for routine written reports of traveller transfer, follow-up care and results of laboratory analysis.  Arrangements for translation and interpreters (?) | C160: 2.1. Access to treatment, isolation and diagnostic facilities Administrative arrangements and a written, formal agreement, such as memorandum of understanding, are in place with local and/or nearby hospitals, clinics, health services, to receive affected travellers from the point of entry for isolation, treatment and other support services  This agreement should describe the potential nature of the risk (e.g. infectious disease, other sources of contamination) and the responsibilities of each signatory;  Reference source, date and expiry of the agreement;  Facilities and types of health care covered (e.g. assessment, isolation, treatment such as first aid, intensive care unit, contagious disease reference centre, etc.);  Competent/qualified personnel assigned for prompt assessment, care and isolation of affected travellers;  Access to laboratory facilities;  Access to necessary equipment, supplies and personal protective equipment (e.g. PPE) ;  Procedures in place for routine written reports of traveller transfer, follow-up care and results of laboratory analysis.  Arrangements for translation and interpreters (?) | D160: 2.1. Assurer le traitement, l’isolement et les moyens diagnostiques Des dispositions administratives ainsi qu’un contrat écrit officiel, sous la forme d’un mémorandum d’accord, ont été passés avec les hôpitaux, cliniques, services médicaux locaux et/ou de proximité, afin de recevoir les voyageurs affectés en provenance du point d’entrée, de les isoler, de leur dispenser un traitement et de leur offrir tout autre service d’assistance.  Le contrat doit décrire la nature potentielle du risque (ex. : maladie infectieuse, autres sources de contamination) ainsi que les responsabilités de chaque signataire ;  Source de référence, date et expiration du contrat ;  Services et types de soins médicaux couverts (ex. : évaluation, isolement, soins de premiers secours, unité de soins intensifs, centre de traitement des maladies contagieuses, etc.) ;  Personnel compétent/qualifié à même de procéder à une évaluation et une prise en charge rapides et à l’isolement des voyageurs affectés ;  Accès aux installations de laboratoire ;  Accès au matériel, aux fournitures et aux équipements de protection individuelle nécessaires ;  Mise en place de procédures pour les comptes rendus écrits de routine concernant le transfert, les soins de suivi et les résultats des analyses de laboratoire du voyageur ;  Intervention de traducteurs et d’interprètes, le cas échéant.
A161: =A160 -> 1 | B161: =IF(A161=2,D161,C161) -> 2.2. Key information regarding treatment, isolation and diagnostic facilities and transport of affected travellers List of all facilities to which affected travellers from the point of entry are to be transferred and names and key contact information (address, phone number, distance from point of entry and map of routes) created , disseminated and maintained/updated, regularly tested for accuracy and accessible to all relevant personnel. Key information provided to transportation services regarding the name, address, distance and route to hospitals/ clinics facility to which affected travellers from the points of entry must be taken. | C161: 2.2. Key information regarding treatment, isolation and diagnostic facilities and transport of affected travellers List of all facilities to which affected travellers from the point of entry are to be transferred and names and key contact information (address, phone number, distance from point of entry and map of routes) created , disseminated and maintained/updated, regularly tested for accuracy and accessible to all relevant personnel. Key information provided to transportation services regarding the name, address, distance and route to hospitals/ clinics facility to which affected travellers from the points of entry must be taken. | D161: 2.2. Informations clés sur la prise en charge, l’isolement, les moyens diagnostiques et le transport des voyageurs affectés Liste de tous les sites vers lesquels les voyageurs affectés doivent être transférés depuis le point d’entrée, coordonnées et informations clés (adresse, numéro de téléphone, distance depuis le point d’entrée et cartes routières) établie, complétée, actualisée, diffusée, et dont l’exactitude est régulièrement vérifiée. Liste mise à la disposition de l’ensemble du personnel concerné. Informations clés fournies aux services de transport : nom, adresse, distance et itinéraire vers les hôpitaux/cliniques vers lesquels les voyageurs affectés doivent être transportés depuis le point d’entrée.
A162: =A161 -> 1 | B162: =IF(A162=2,D162,C162) -> 3. Assessment, care and isolation of affected animals | C162: 3. Assessment, care and isolation of affected animals | D162: 3. Evaluation, prise en charge et isolement des animaux affectés
... A165: =A164 -> 1 | B165: =IF(A165=2,D165,C165) -> (c) to provide appropriate space, separate from other travellers, to interview suspect or affected persons | C165: (c) to provide appropriate space, separate from other travellers, to interview suspect or affected persons | D165: (c) Prévoir un espace approprié, à l'écart des autres voyageurs, pour interroger les personnes suspectes ou affectées
A166: =A165 -> 1 | C166: 1
A167: =A166 -> 1 | B167: =IF(A167=2,D167,C167) -> 1. Space to interview suspect or affected travellers- Hygienic and environmentally safe space(s) set aside to conduct private interviews that are of adequate size in relation to volume, type of conveyance and frequency of travellers and complexity of the point of entry (regarding terminal facilities, destinations and multimodal practice). Desirable to have independent exit passage which suspect travellers can be transported to medical care facilities, if needed, and avoid infecting other persons. Arrangements for translation and interpreters where needed | C167: 1. Space to interview suspect or affected travellers- Hygienic and environmentally safe space(s) set aside to conduct private interviews that are of adequate size in relation to volume, type of conveyance and frequency of travellers and complexity of the point of entry (regarding terminal facilities, destinations and multimodal practice). Desirable to have independent exit passage which suspect travellers can be transported to medical care facilities, if needed, and avoid infecting other persons. Arrangements for translation and interpreters where needed | D167: 1. Espace réservé aux entretiens avec les voyageurs suspects ou affectés – Espaces hygiéniques et sécurisés destinés à l’organisation d’entretiens privés, d’une taille appropriée au volume, au moyen de transport et à la fréquence des voyageurs, ainsi qu’à la complexité du point d’entrée (terminaux, destinations et pratique multimodale). Il est souhaitable de prévoir une sortie indépendante par laquelle les voyageurs suspects peuvent être transférés vers des services de prise en charge médicale, le cas échéant, et éviter ainsi toute contamination. Intervention de traducteurs et d’interprètes, le cas échéant.
A168: =A167 -> 1 | B168: =IF(A168=2,D168,C168) -> 2. Regularly updated, documented, tested on-site control measures, including equipment and products for cleaning, disinfection and decontamination, for the purpose of elimination all possible contamination at the facility used to interview affected travellers, . | C168: 2. Regularly updated, documented, tested on-site control measures, including equipment and products for cleaning, disinfection and decontamination, for the purpose of elimination all possible contamination at the facility used to interview affected travellers, . | D168: 2. Des mesures de contrôle sont régulièrement mises à jour, documentées, testées sur site afin d’éliminer toute possibilité de contamination des lieux utilisés pour l’interrogatoire des voyageurs affectés. Ces mesures doivent également comprendre des équipements et produits de nettoyage, de désinfection et de décontamination
A169: =A168 -> 1 | B169: =IF(A169=2,D169,C169) -> 3. Personal protective equipment (PPE) for interviewing ill travellers Access to necessary equipment (e.g. PPE) for initial interview and triage. Personnel use personal protective equipment for initial interview and triage. | C169: 3. Personal protective equipment (PPE) for interviewing ill travellers Access to necessary equipment (e.g. PPE) for initial interview and triage. Personnel use personal protective equipment for initial interview and triage. | D169: 3. Equipements de protection individuelle lors des entretiens avec des voyageurs affectés Accès aux équipements nécessaires pour les premiers entretiens et le triage. Le personnel porte les équipements de protection individuelle pour les premiers entretiens et le triage.
A170: =A169 -> 1 | B170: =IF(A170=2,D170,C170) -> (d) to provide for the assessment and, if required, quarantine of suspect travellers, preferably in facilities away from the point of entry | C170: (d) to provide for the assessment and, if required, quarantine of suspect travellers, preferably in facilities away from the point of entry | D170: d) Assurer l’évaluation et, si nécessaire, la mise en quarantaine des voyageurs suspects, de préférence dans des sites éloignés du point d’entrée
A171: =A170 -> 1 | B171: =IF(A171=2,D171,C171) -> 1. Assessment of suspect travellers | C171: 1. Assessment of suspect travellers | D171: 1. Evaluation des voyageurs suspects
A172: =A171 -> 1 | B172: =IF(A172=2,D172,C172) -> 1.1. Staff Appropriate number of trained personnel, proportional to the volume and frequency of travellers, available at short notice, on or off site, to interview and to provide first assessment of suspect travellers on a timely basis. | C172: 1.1. Staff Appropriate number of trained personnel, proportional to the volume and frequency of travellers, available at short notice, on or off site, to interview and to provide first assessment of suspect travellers on a timely basis. | D172: 1.1. Personnel Personnel formé en nombre suffisant, proportionnel au volume et à la fréquence de circulation des voyageurs, disponible immédiatement ou présent sur site, chargé de mener des entretiens et d’effectuer, au moment opportun, une première évaluation des voyageurs suspects.
A173: =A172 -> 1 | B173: =IF(A173=2,D173,C173) -> 1.2. Procedures for reporting Procedures in place for reporting to the competent authority at the point of entry events related to travellers, indicative of infectious disease or evidence of a public health risk to ensure appropriate assessment, care and other public health measures | C173: 1.2. Procedures for reporting Procedures in place for reporting to the competent authority at the point of entry events related to travellers, indicative of infectious disease or evidence of a public health risk to ensure appropriate assessment, care and other public health measures | D173: 1.2. Procédures à suivre pour le compte rendu Mise en place de procédures pour rendre compte aux autorités compétentes au point d’entrée des événements rencontrés par les voyageurs révélant un risque de maladie infectieuse ou avérant un risque de santé publique afin d’assurer l’évaluation, la prise en charge et la mise en œuvre de mesures de santé publique adaptées à la situation.
A174: =A173 -> 1 | B174: =IF(A174=2,D174,C174) -> 2. Quarantine of suspect travellers | C174: 2. Quarantine of suspect travellers | D174: 2. Mise en quarantaine des voyageurs suspects
A175: =A174 -> 1 | B175: =IF(A175=2,D175,C175) -> 2.1. Designation of facilities Administrative arrangements and a written, formal agreement, such as memorandum of understanding, are in place with local and/or nearby hospitals, clinics, health services, or other facilities to receive suspect travellers from the point of entry for quarantine and other support services (preferably away from the point of entry).  This agreement should describe the potential nature of the risk (e.g. infectious disease; other sources of contamination) and the responsibilities of each signatory;  Reference source, date and expiry of the agreement;  Facilities and type of support and logistics services covered;  Competent/qualified personnel for quarantine of suspected travellers, assigned to these duties;  Access to laboratory facilities;  Access to necessary equipment, supplies and personal protective equipment (e.g. PPE) ;  Procedures in place for routine written reports of traveller transfer, follow-up care and results of laboratory analysis. Arrangements for translation and interpreters where needed(?) | C175: 2.1. Designation of facilities Administrative arrangements and a written, formal agreement, such as memorandum of understanding, are in place with local and/or nearby hospitals, clinics, health services, or other facilities to receive suspect travellers from the point of entry for quarantine and other support services (preferably away from the point of entry).  This agreement should describe the potential nature of the risk (e.g. infectious disease; other sources of contamination) and the responsibilities of each signatory;  Reference source, date and expiry of the agreement;  Facilities and type of support and logistics services covered;  Competent/qualified personnel for quarantine of suspected travellers, assigned to these duties;  Access to laboratory facilities;  Access to necessary equipment, supplies and personal protective equipment (e.g. PPE) ;  Procedures in place for routine written reports of traveller transfer, follow-up care and results of laboratory analysis. Arrangements for translation and interpreters where needed(?) | D175: 2.1. Désignation des établissements Des dispositions administratives ainsi qu’un contrat écrit officiel, sous la forme d’un mémorandum d’accord, ont été passés avec les hôpitaux, cliniques, services médicaux locaux et/ou de proximité, afin de recevoir les voyageurs suspects en provenance du point d’entrée, de les mettre en quarantaine et de leur offrir tout autre service d’assistance (de préférence à l’écart du point d’entrée).  Le contrat doit décrire la nature potentielle du risque (ex. : maladie infectieuse ; autres sources de contamination) ainsi que les responsabilités de chaque signataire ;  Source de référence, date et expiration du contrat ;  Services et types d'assistance et de services logistiques fournis ;  Personnel compétent/qualifié à même de procéder à la mise en quarantaine des voyageurs suspects ;  Accès aux installations de laboratoire ;  Accès au matériel, aux fournitures et aux équipements de protection individuelle nécessaires ;  Mise en place de procédures pour les comptes rendus écrits de routine concernant le transfert, les soins de suivi et les résultats des analyses de laboratoire du voyageur. Intervention de traducteurs et d’interprètes, le cas échéant.
A176: =A175 -> 1 | B176: =IF(A176=2,D176,C176) -> 2.2. Staff Appropriate number of trained personnel at the quarantine facility to recognize disease symptoms and who are familiar with procedures and measures for suspect travellers | C176: 2.2. Staff Appropriate number of trained personnel at the quarantine facility to recognize disease symptoms and who are familiar with procedures and measures for suspect travellers | D176: 2.2. Personnel Personnel formé en nombre suffisant, présent sur le site de quarantaine, à même de reconnaître les symptômes d'une maladie et doté de connaissances certaines s’agissant des procédures à suivre et des mesures à prendre pour les voyageurs suspects.
A177: =A176 -> 1 | B177: =IF(A177=2,D177,C177) -> (e) to apply recommended measures to disinsect, derat, disinfect, decontaminate or otherwise treat baggage, cargo, containers, conveyances, goods or postal parcels including, when appropriate, at locations specially designated and equipped for this purpose | C177: (e) to apply recommended measures to disinsect, derat, disinfect, decontaminate or otherwise treat baggage, cargo, containers, conveyances, goods or postal parcels including, when appropriate, at locations specially designated and equipped for this purpose | D177: e) Appliquer les mesures recommandées pour désinsectiser, dératiser, désinfecter, décontaminer ou traiter les moyens de transport ou les bagages et, si cela est nécessaire, les cargaisons, conteneurs, marchandises ou colis postaux dans des lieux spécialement désignés et équipés à cette fin
A178: =A177 -> 1 | C178: 1
A179: =A178 -> 1 | B179: =IF(A179=2,D179,C179) -> 1.Location for application of recommended measures - Depending on the movement of baggage, cargo, containers, conveyances, goods and postal parcels, a specially equipped location should be designated, for:  disinsecting  deratting  disinfecting  decontaminating The location should be properly designed to avoid possible injury/discomfort/harm to persons and damage to the environment. Factors such as wind direction and distance to human habitats should be taken into consideration, | C179: 1.Location for application of recommended measures - Depending on the movement of baggage, cargo, containers, conveyances, goods and postal parcels, a specially equipped location should be designated, for:  disinsecting  deratting  disinfecting  decontaminating The location should be properly designed to avoid possible injury/discomfort/harm to persons and damage to the environment. Factors such as wind direction and distance to human habitats should be taken into consideration, | D179: 1. Lieu d’application des mesures préconisées En fonction du mouvement des bagages, cargaisons, conteneurs, moyens de transport, marchandises ou colis postaux, un lieu spécialement équipé doit être désigné en vue de leur :  désinsectisation  dératisation  désinfection  décontamination  traitement. Ce lieu doit être correctement désigné afin d’éviter blessures potentielles, inconfort, dommages aux personnes et dégradations de l’environnement. Des facteurs tels que la direction du vent et la distance des habitations doivent être pris en compte.
A180: =A179 -> 1 | B180: =IF(A180=2,D180,C180) -> 2. Standard operational procedures Documented, updated and tested standard operational procedures are in place | C180: 2. Standard operational procedures Documented, updated and tested standard operational procedures are in place | D180: 2. Procédures d’opération standard Mise en place de procédures d’opération standard documentées, actualisées et testées.
A181: =A180 -> 1 | B181: =IF(A181=2,D181,C181) -> 3. Trained staff Appropriate number of trained personnel available to apply health measures according to technical requirements, adequately and in a timely manner. | C181: 3. Trained staff Appropriate number of trained personnel available to apply health measures according to technical requirements, adequately and in a timely manner. | D181: 3. Personnel formé Mise à disposition d’un personnel formé en nombre suffisant, chargé au moment opportun de la bonne application des mesures sanitaires conformément aux exigences techniques.
A182: =A181 -> 1 | B182: =IF(A182=2,D182,C182) -> 4. Personal protective equipment Equipment available and staff trained in application of personal protective equipment | C182: 4. Personal protective equipment Equipment available and staff trained in application of personal protective equipment | D182: 4. Equipements de protection individuelle Mise à disposition des équipements et du personnel formé au port des équipements de protection individuelle.
...

Sheet Compatibility Report
B1: Compatibility Report for core capacity.xls
B2: Run on 5/8/2012 15:18
B4: The following features in this workbook are not supported by earlier versions of Excel. These features may be lost or degraded when opening this workbook in an earlier version of Excel or if you save this workbook in an earlier file format.
B6: Significant loss of functionality | E6: # of occurrences | F6: Version
B8: One or more cells in this workbook contain data validation rules which refer to values on other worksheets. These data validation rules will not be saved. | E8: 1
F9: Excel 97-2003
